BEGIN:VCALENDAR
PRODID:-
VERSION:2.0
METHOD:PUBLISH
BEGIN:VEVENT
ORGANIZER:MAILTO:
DTSTART:20220228T153000Z
DTEND:20220228T161500Z
LOCATION:ART 2 ART 1  IT & DESIGN  ROOM Back WOOD WORKSHOP
TRANSP:OPAQUE
SEQUENCE:0
UID:ASHBURY-417967692
DTSTAMP:20221122T195400Z
DESCRIPTION:Class 8  Karen Renee Rhys Luke
SUMMARY:[Karen] 8 Art/Dig Tech/Wood 
X-MICROSOFT-CDO-IMPORTANCE:1
CLASS:PUBLIC
PRIORITY:5
END:VEVENT
BEGIN:VEVENT
ORGANIZER:MAILTO:
DTSTART:20220307T153000Z
DTEND:20220307T161500Z
LOCATION:ART 2 ART 1  IT & DESIGN  ROOM Back WOOD WORKSHOP
TRANSP:OPAQUE
SEQUENCE:0
UID:ASHBURY-418033235
DTSTAMP:20221122T195400Z
DESCRIPTION:Class 8  Karen Renee Rhys Luke
SUMMARY:[Karen] 8 Art/Dig Tech/Wood 
X-MICROSOFT-CDO-IMPORTANCE:1
CLASS:PUBLIC
PRIORITY:5
END:VEVENT
BEGIN:VEVENT
ORGANIZER:MAILTO:
DTSTART:20220314T153000Z
DTEND:20220314T161500Z
LOCATION:ART 2 ART 1  IT & DESIGN  ROOM Back WOOD WORKSHOP
TRANSP:OPAQUE
SEQUENCE:0
UID:ASHBURY-418098778
DTSTAMP:20221122T195400Z
DESCRIPTION:Class 8  Karen Renee Rhys Luke
SUMMARY:[Karen] 8 Art/Dig Tech/Wood 
X-MICROSOFT-CDO-IMPORTANCE:1
CLASS:PUBLIC
PRIORITY:5
END:VEVENT
BEGIN:VEVENT
ORGANIZER:MAILTO:
DTSTART:20220301T153000Z
DTEND:20220301T161500Z
LOCATION:ART 2 ART 1  IT & DESIGN  ROOM Back WOOD WORKSHOP
TRANSP:OPAQUE
SEQUENCE:0
UID:ASHBURY-418164301
DTSTAMP:20221122T195400Z
DESCRIPTION:Class 8  Karen Renee Rhys Luke
SUMMARY:[Karen] 8 Art/Dig Tech/Wood 
X-MICROSOFT-CDO-IMPORTANCE:1
CLASS:PUBLIC
PRIORITY:5
END:VEVENT
BEGIN:VEVENT
ORGANIZER:MAILTO:
DTSTART:20220308T153000Z
DTEND:20220308T161500Z
LOCATION:ART 2 ART 1  IT & DESIGN  ROOM Back WOOD WORKSHOP
TRANSP:OPAQUE
SEQUENCE:0
UID:ASHBURY-418229844
DTSTAMP:20221122T195400Z
DESCRIPTION:Class 8  Karen Renee Rhys Luke
SUMMARY:[Karen] 8 Art/Dig Tech/Wood 
X-MICROSOFT-CDO-IMPORTANCE:1
CLASS:PUBLIC
PRIORITY:5
END:VEVENT
BEGIN:VEVENT
ORGANIZER:MAILTO:
DTSTART:20220315T153000Z
DTEND:20220315T161500Z
LOCATION:ART 2 ART 1  IT & DESIGN  ROOM Back WOOD WORKSHOP
TRANSP:OPAQUE
SEQUENCE:0
UID:ASHBURY-418295387
DTSTAMP:20221122T195400Z
DESCRIPTION:Class 8  Karen Renee Rhys Luke
SUMMARY:[Karen] 8 Art/Dig Tech/Wood 
X-MICROSOFT-CDO-IMPORTANCE:1
CLASS:PUBLIC
PRIORITY:5
END:VEVENT
BEGIN:VEVENT
ORGANIZER:MAILTO:
DTSTART:20220302T153000Z
DTEND:20220302T161500Z
LOCATION:ART 2 ART 1  IT & DESIGN  ROOM Back WOOD WORKSHOP
TRANSP:OPAQUE
SEQUENCE:0
UID:ASHBURY-418360910
DTSTAMP:20221122T195400Z
DESCRIPTION:Class 8  Karen Renee Rhys Luke
SUMMARY:[Karen] 8 Art/Dig Tech/Wood 
X-MICROSOFT-CDO-IMPORTANCE:1
CLASS:PUBLIC
PRIORITY:5
END:VEVENT
BEGIN:VEVENT
ORGANIZER:MAILTO:
DTSTART:20220309T153000Z
DTEND:20220309T161500Z
LOCATION:ART 2 ART 1  IT & DESIGN  ROOM Back WOOD WORKSHOP
TRANSP:OPAQUE
SEQUENCE:0
UID:ASHBURY-418426453
DTSTAMP:20221122T195400Z
DESCRIPTION:Class 8  Karen Renee Rhys Luke
SUMMARY:[Karen] 8 Art/Dig Tech/Wood 
X-MICROSOFT-CDO-IMPORTANCE:1
CLASS:PUBLIC
PRIORITY:5
END:VEVENT
BEGIN:VEVENT
ORGANIZER:MAILTO:
DTSTART:20220316T153000Z
DTEND:20220316T161500Z
LOCATION:ART 2 ART 1  IT & DESIGN  ROOM Back WOOD WORKSHOP
TRANSP:OPAQUE
SEQUENCE:0
UID:ASHBURY-418491996
DTSTAMP:20221122T195400Z
DESCRIPTION:Class 8  Karen Renee Rhys Luke
SUMMARY:[Karen] 8 Art/Dig Tech/Wood 
X-MICROSOFT-CDO-IMPORTANCE:1
CLASS:PUBLIC
PRIORITY:5
END:VEVENT
BEGIN:VEVENT
ORGANIZER:MAILTO:
DTSTART:20220304T153000Z
DTEND:20220304T161500Z
LOCATION:ART 2 ART 1  IT & DESIGN  ROOM Back WOOD WORKSHOP
TRANSP:OPAQUE
SEQUENCE:0
UID:ASHBURY-418557520
DTSTAMP:20221122T195400Z
DESCRIPTION:Class 8  Karen Renee Rhys Luke
SUMMARY:[Karen] 8 Art/Dig Tech/Wood 
X-MICROSOFT-CDO-IMPORTANCE:1
CLASS:PUBLIC
PRIORITY:5
END:VEVENT
BEGIN:VEVENT
ORGANIZER:MAILTO:
DTSTART:20220311T153000Z
DTEND:20220311T161500Z
LOCATION:ART 2 ART 1  IT & DESIGN  ROOM Back WOOD WORKSHOP
TRANSP:OPAQUE
SEQUENCE:0
UID:ASHBURY-418623063
DTSTAMP:20221122T195400Z
DESCRIPTION:Class 8  Karen Renee Rhys Luke
SUMMARY:[Karen] 8 Art/Dig Tech/Wood 
X-MICROSOFT-CDO-IMPORTANCE:1
CLASS:PUBLIC
PRIORITY:5
END:VEVENT
BEGIN:VEVENT
ORGANIZER:MAILTO:
DTSTART:20220318T153000Z
DTEND:20220318T161500Z
LOCATION:ART 2 ART 1  IT & DESIGN  ROOM Back WOOD WORKSHOP
TRANSP:OPAQUE
SEQUENCE:0
UID:ASHBURY-418688606
DTSTAMP:20221122T195400Z
DESCRIPTION:Class 8  Karen Renee Rhys Luke
SUMMARY:[Karen] 8 Art/Dig Tech/Wood 
X-MICROSOFT-CDO-IMPORTANCE:1
CLASS:PUBLIC
PRIORITY:5
END:VEVENT
BEGIN:VEVENT
ORGANIZER:MAILTO:
DTSTART:20220526T000000Z
DTEND:20220526T013000Z
LOCATION:ART 2 ART 1  IT & DESIGN  ROOM Back WOOD WORKSHOP
TRANSP:OPAQUE
SEQUENCE:0
UID:ASHBURY-418754211
DTSTAMP:20221122T195400Z
DESCRIPTION:Class 8  Karen Renee Rhys Luke
SUMMARY:[Karen] 8 Art/Dig Tech/Wood 
X-MICROSOFT-CDO-IMPORTANCE:1
CLASS:PUBLIC
PRIORITY:5
END:VEVENT
BEGIN:VEVENT
ORGANIZER:MAILTO:
DTSTART:20220602T000000Z
DTEND:20220602T013000Z
LOCATION:ART 2 ART 1  IT & DESIGN  ROOM Back WOOD WORKSHOP
TRANSP:OPAQUE
SEQUENCE:0
UID:ASHBURY-418819754
DTSTAMP:20221122T195400Z
DESCRIPTION:Class 8  Karen Renee Rhys Luke
SUMMARY:[Karen] 8 Art/Dig Tech/Wood 
X-MICROSOFT-CDO-IMPORTANCE:1
CLASS:PUBLIC
PRIORITY:5
END:VEVENT
BEGIN:VEVENT
ORGANIZER:MAILTO:
DTSTART:20220609T000000Z
DTEND:20220609T013000Z
LOCATION:ART 2 ART 1  IT & DESIGN  ROOM Back WOOD WORKSHOP
TRANSP:OPAQUE
SEQUENCE:0
UID:ASHBURY-418885297
DTSTAMP:20221122T195400Z
DESCRIPTION:Class 8  Karen Renee Rhys Luke
SUMMARY:[Karen] 8 Art/Dig Tech/Wood 
X-MICROSOFT-CDO-IMPORTANCE:1
CLASS:PUBLIC
PRIORITY:5
END:VEVENT
BEGIN:VEVENT
ORGANIZER:MAILTO:
DTSTART:20220613T153000Z
DTEND:20220613T161500Z
LOCATION:ART 2 ART 1  IT & DESIGN  ROOM Back WOOD WORKSHOP
TRANSP:OPAQUE
SEQUENCE:0
UID:ASHBURY-418950837
DTSTAMP:20221122T195400Z
DESCRIPTION:Class 8  Karen Renee Rhys Luke
SUMMARY:[Karen] 8 Art/Dig Tech/Wood 
X-MICROSOFT-CDO-IMPORTANCE:1
CLASS:PUBLIC
PRIORITY:5
END:VEVENT
BEGIN:VEVENT
ORGANIZER:MAILTO:
DTSTART:20220620T153000Z
DTEND:20220620T161500Z
LOCATION:ART 2 ART 1  IT & DESIGN  ROOM Back WOOD WORKSHOP
TRANSP:OPAQUE
SEQUENCE:0
UID:ASHBURY-419016380
DTSTAMP:20221122T195400Z
DESCRIPTION:Class 8  Karen Renee Rhys Luke
SUMMARY:[Karen] 8 Art/Dig Tech/Wood 
X-MICROSOFT-CDO-IMPORTANCE:1
CLASS:PUBLIC
PRIORITY:5
END:VEVENT
BEGIN:VEVENT
ORGANIZER:MAILTO:
DTSTART:20220627T153000Z
DTEND:20220627T161500Z
LOCATION:ART 2 ART 1  IT & DESIGN  ROOM Back WOOD WORKSHOP
TRANSP:OPAQUE
SEQUENCE:0
UID:ASHBURY-419081923
DTSTAMP:20221122T195400Z
DESCRIPTION:Class 8  Karen Renee Rhys Luke
SUMMARY:[Karen] 8 Art/Dig Tech/Wood 
X-MICROSOFT-CDO-IMPORTANCE:1
CLASS:PUBLIC
PRIORITY:5
END:VEVENT
BEGIN:VEVENT
ORGANIZER:MAILTO:
DTSTART:20220614T153000Z
DTEND:20220614T161500Z
LOCATION:ART 2 ART 1  IT & DESIGN  ROOM Back WOOD WORKSHOP
TRANSP:OPAQUE
SEQUENCE:0
UID:ASHBURY-419147446
DTSTAMP:20221122T195400Z
DESCRIPTION:Class 8  Karen Renee Rhys Luke
SUMMARY:[Karen] 8 Art/Dig Tech/Wood 
X-MICROSOFT-CDO-IMPORTANCE:1
CLASS:PUBLIC
PRIORITY:5
END:VEVENT
BEGIN:VEVENT
ORGANIZER:MAILTO:
DTSTART:20220621T153000Z
DTEND:20220621T161500Z
LOCATION:ART 2 ART 1  IT & DESIGN  ROOM Back WOOD WORKSHOP
TRANSP:OPAQUE
SEQUENCE:0
UID:ASHBURY-419212989
DTSTAMP:20221122T195400Z
DESCRIPTION:Class 8  Karen Renee Rhys Luke
SUMMARY:[Karen] 8 Art/Dig Tech/Wood 
X-MICROSOFT-CDO-IMPORTANCE:1
CLASS:PUBLIC
PRIORITY:5
END:VEVENT
BEGIN:VEVENT
ORGANIZER:MAILTO:
DTSTART:20220628T153000Z
DTEND:20220628T161500Z
LOCATION:ART 2 ART 1  IT & DESIGN  ROOM Back WOOD WORKSHOP
TRANSP:OPAQUE
SEQUENCE:0
UID:ASHBURY-419278532
DTSTAMP:20221122T195400Z
DESCRIPTION:Class 8  Karen Renee Rhys Luke
SUMMARY:[Karen] 8 Art/Dig Tech/Wood 
X-MICROSOFT-CDO-IMPORTANCE:1
CLASS:PUBLIC
PRIORITY:5
END:VEVENT
BEGIN:VEVENT
ORGANIZER:MAILTO:
DTSTART:20220615T153000Z
DTEND:20220615T161500Z
LOCATION:ART 2 ART 1  IT & DESIGN  ROOM Back WOOD WORKSHOP
TRANSP:OPAQUE
SEQUENCE:0
UID:ASHBURY-419344055
DTSTAMP:20221122T195400Z
DESCRIPTION:Class 8  Karen Renee Rhys Luke
SUMMARY:[Karen] 8 Art/Dig Tech/Wood 
X-MICROSOFT-CDO-IMPORTANCE:1
CLASS:PUBLIC
PRIORITY:5
END:VEVENT
BEGIN:VEVENT
ORGANIZER:MAILTO:
DTSTART:20220622T153000Z
DTEND:20220622T161500Z
LOCATION:ART 2 ART 1  IT & DESIGN  ROOM Back WOOD WORKSHOP
TRANSP:OPAQUE
SEQUENCE:0
UID:ASHBURY-419409598
DTSTAMP:20221122T195400Z
DESCRIPTION:Class 8  Karen Renee Rhys Luke
SUMMARY:[Karen] 8 Art/Dig Tech/Wood 
X-MICROSOFT-CDO-IMPORTANCE:1
CLASS:PUBLIC
PRIORITY:5
END:VEVENT
BEGIN:VEVENT
ORGANIZER:MAILTO:
DTSTART:20220629T153000Z
DTEND:20220629T161500Z
LOCATION:ART 2 ART 1  IT & DESIGN  ROOM Back WOOD WORKSHOP
TRANSP:OPAQUE
SEQUENCE:0
UID:ASHBURY-419475141
DTSTAMP:20221122T195400Z
DESCRIPTION:Class 8  Karen Renee Rhys Luke
SUMMARY:[Karen] 8 Art/Dig Tech/Wood 
X-MICROSOFT-CDO-IMPORTANCE:1
CLASS:PUBLIC
PRIORITY:5
END:VEVENT
BEGIN:VEVENT
ORGANIZER:MAILTO:
DTSTART:20220617T153000Z
DTEND:20220617T161500Z
LOCATION:ART 2 ART 1  IT & DESIGN  ROOM Back WOOD WORKSHOP
TRANSP:OPAQUE
SEQUENCE:0
UID:ASHBURY-419540665
DTSTAMP:20221122T195400Z
DESCRIPTION:Class 8  Karen Renee Rhys Luke
SUMMARY:[Karen] 8 Art/Dig Tech/Wood 
X-MICROSOFT-CDO-IMPORTANCE:1
CLASS:PUBLIC
PRIORITY:5
END:VEVENT
BEGIN:VEVENT
ORGANIZER:MAILTO:
DTSTART:20220624T153000Z
DTEND:20220624T161500Z
LOCATION:ART 2 ART 1  IT & DESIGN  ROOM Back WOOD WORKSHOP
TRANSP:OPAQUE
SEQUENCE:0
UID:ASHBURY-419606208
DTSTAMP:20221122T195400Z
DESCRIPTION:Class 8  Karen Renee Rhys Luke
SUMMARY:[Karen] 8 Art/Dig Tech/Wood 
X-MICROSOFT-CDO-IMPORTANCE:1
CLASS:PUBLIC
PRIORITY:5
END:VEVENT
BEGIN:VEVENT
ORGANIZER:MAILTO:
DTSTART:20220701T153000Z
DTEND:20220701T161500Z
LOCATION:ART 2 ART 1  IT & DESIGN  ROOM Back WOOD WORKSHOP
TRANSP:OPAQUE
SEQUENCE:0
UID:ASHBURY-419671751
DTSTAMP:20221122T195400Z
DESCRIPTION:Class 8  Karen Renee Rhys Luke
SUMMARY:[Karen] 8 Art/Dig Tech/Wood 
X-MICROSOFT-CDO-IMPORTANCE:1
CLASS:PUBLIC
PRIORITY:5
END:VEVENT
BEGIN:VEVENT
ORGANIZER:MAILTO:
DTSTART:20220717T220500Z
DTEND:20220717T225000Z
LOCATION:ART 2 ART 1  IT & DESIGN  ROOM Back WOOD WORKSHOP
TRANSP:OPAQUE
SEQUENCE:0
UID:ASHBURY-419737304
DTSTAMP:20221122T195400Z
DESCRIPTION:Class 8  Karen Renee Rhys Luke
SUMMARY:[Karen] 8 Art/Dig Tech/Wood 
X-MICROSOFT-CDO-IMPORTANCE:1
CLASS:PUBLIC
PRIORITY:5
END:VEVENT
BEGIN:VEVENT
ORGANIZER:MAILTO:
DTSTART:20220724T220500Z
DTEND:20220724T225000Z
LOCATION:ART 2 ART 1  IT & DESIGN  ROOM Back WOOD WORKSHOP
TRANSP:OPAQUE
SEQUENCE:0
UID:ASHBURY-419802847
DTSTAMP:20221122T195400Z
DESCRIPTION:Class 8  Karen Renee Rhys Luke
SUMMARY:[Karen] 8 Art/Dig Tech/Wood 
X-MICROSOFT-CDO-IMPORTANCE:1
CLASS:PUBLIC
PRIORITY:5
END:VEVENT
BEGIN:VEVENT
ORGANIZER:MAILTO:
DTSTART:20220731T220500Z
DTEND:20220731T225000Z
LOCATION:ART 2 ART 1  IT & DESIGN  ROOM Back WOOD WORKSHOP
TRANSP:OPAQUE
SEQUENCE:0
UID:ASHBURY-419868390
DTSTAMP:20221122T195400Z
DESCRIPTION:Class 8  Karen Renee Rhys Luke
SUMMARY:[Karen] 8 Art/Dig Tech/Wood 
X-MICROSOFT-CDO-IMPORTANCE:1
CLASS:PUBLIC
PRIORITY:5
END:VEVENT
BEGIN:VEVENT
ORGANIZER:MAILTO:
DTSTART:20220807T220500Z
DTEND:20220807T225000Z
LOCATION:ART 2 ART 1  IT & DESIGN  ROOM Back WOOD WORKSHOP
TRANSP:OPAQUE
SEQUENCE:0
UID:ASHBURY-419933933
DTSTAMP:20221122T195400Z
DESCRIPTION:Class 8  Karen Renee Rhys Luke
SUMMARY:[Karen] 8 Art/Dig Tech/Wood 
X-MICROSOFT-CDO-IMPORTANCE:1
CLASS:PUBLIC
PRIORITY:5
END:VEVENT
BEGIN:VEVENT
ORGANIZER:MAILTO:
DTSTART:20220718T220500Z
DTEND:20220718T225000Z
LOCATION:ART 2 ART 1  IT & DESIGN  ROOM Back WOOD WORKSHOP
TRANSP:OPAQUE
SEQUENCE:0
UID:ASHBURY-419999449
DTSTAMP:20221122T195400Z
DESCRIPTION:Class 8  Karen Renee Rhys Luke
SUMMARY:[Karen] 8 Art/Dig Tech/Wood 
X-MICROSOFT-CDO-IMPORTANCE:1
CLASS:PUBLIC
PRIORITY:5
END:VEVENT
BEGIN:VEVENT
ORGANIZER:MAILTO:
DTSTART:20220725T220500Z
DTEND:20220725T225000Z
LOCATION:ART 2 ART 1  IT & DESIGN  ROOM Back WOOD WORKSHOP
TRANSP:OPAQUE
SEQUENCE:0
UID:ASHBURY-420064992
DTSTAMP:20221122T195400Z
DESCRIPTION:Class 8  Karen Renee Rhys Luke
SUMMARY:[Karen] 8 Art/Dig Tech/Wood 
X-MICROSOFT-CDO-IMPORTANCE:1
CLASS:PUBLIC
PRIORITY:5
END:VEVENT
BEGIN:VEVENT
ORGANIZER:MAILTO:
DTSTART:20220801T220500Z
DTEND:20220801T225000Z
LOCATION:ART 2 ART 1  IT & DESIGN  ROOM Back WOOD WORKSHOP
TRANSP:OPAQUE
SEQUENCE:0
UID:ASHBURY-420130535
DTSTAMP:20221122T195400Z
DESCRIPTION:Class 8  Karen Renee Rhys Luke
SUMMARY:[Karen] 8 Art/Dig Tech/Wood 
X-MICROSOFT-CDO-IMPORTANCE:1
CLASS:PUBLIC
PRIORITY:5
END:VEVENT
BEGIN:VEVENT
ORGANIZER:MAILTO:
DTSTART:20220808T220500Z
DTEND:20220808T225000Z
LOCATION:ART 2 ART 1  IT & DESIGN  ROOM Back WOOD WORKSHOP
TRANSP:OPAQUE
SEQUENCE:0
UID:ASHBURY-420196078
DTSTAMP:20221122T195400Z
DESCRIPTION:Class 8  Karen Renee Rhys Luke
SUMMARY:[Karen] 8 Art/Dig Tech/Wood 
X-MICROSOFT-CDO-IMPORTANCE:1
CLASS:PUBLIC
PRIORITY:5
END:VEVENT
BEGIN:VEVENT
ORGANIZER:MAILTO:
DTSTART:20220719T220500Z
DTEND:20220719T225000Z
LOCATION:ART 2 ART 1  IT & DESIGN  ROOM Back WOOD WORKSHOP
TRANSP:OPAQUE
SEQUENCE:0
UID:ASHBURY-420261594
DTSTAMP:20221122T195400Z
DESCRIPTION:Class 8  Karen Renee Rhys Luke
SUMMARY:[Karen] 8 Art/Dig Tech/Wood 
X-MICROSOFT-CDO-IMPORTANCE:1
CLASS:PUBLIC
PRIORITY:5
END:VEVENT
BEGIN:VEVENT
ORGANIZER:MAILTO:
DTSTART:20220726T220500Z
DTEND:20220726T225000Z
LOCATION:ART 2 ART 1  IT & DESIGN  ROOM Back WOOD WORKSHOP
TRANSP:OPAQUE
SEQUENCE:0
UID:ASHBURY-420327137
DTSTAMP:20221122T195400Z
DESCRIPTION:Class 8  Karen Renee Rhys Luke
SUMMARY:[Karen] 8 Art/Dig Tech/Wood 
X-MICROSOFT-CDO-IMPORTANCE:1
CLASS:PUBLIC
PRIORITY:5
END:VEVENT
BEGIN:VEVENT
ORGANIZER:MAILTO:
DTSTART:20220802T220500Z
DTEND:20220802T225000Z
LOCATION:ART 2 ART 1  IT & DESIGN  ROOM Back WOOD WORKSHOP
TRANSP:OPAQUE
SEQUENCE:0
UID:ASHBURY-420392680
DTSTAMP:20221122T195400Z
DESCRIPTION:Class 8  Karen Renee Rhys Luke
SUMMARY:[Karen] 8 Art/Dig Tech/Wood 
X-MICROSOFT-CDO-IMPORTANCE:1
CLASS:PUBLIC
PRIORITY:5
END:VEVENT
BEGIN:VEVENT
ORGANIZER:MAILTO:
DTSTART:20220809T220500Z
DTEND:20220809T225000Z
LOCATION:ART 2 ART 1  IT & DESIGN  ROOM Back WOOD WORKSHOP
TRANSP:OPAQUE
SEQUENCE:0
UID:ASHBURY-420458223
DTSTAMP:20221122T195400Z
DESCRIPTION:Class 8  Karen Renee Rhys Luke
SUMMARY:[Karen] 8 Art/Dig Tech/Wood 
X-MICROSOFT-CDO-IMPORTANCE:1
CLASS:PUBLIC
PRIORITY:5
END:VEVENT
BEGIN:VEVENT
ORGANIZER:MAILTO:
DTSTART:20220720T220500Z
DTEND:20220720T225000Z
LOCATION:ART 2 ART 1  IT & DESIGN  ROOM Back WOOD WORKSHOP
TRANSP:OPAQUE
SEQUENCE:0
UID:ASHBURY-420523739
DTSTAMP:20221122T195400Z
DESCRIPTION:Class 8  Karen Renee Rhys Luke
SUMMARY:[Karen] 8 Art/Dig Tech/Wood 
X-MICROSOFT-CDO-IMPORTANCE:1
CLASS:PUBLIC
PRIORITY:5
END:VEVENT
BEGIN:VEVENT
ORGANIZER:MAILTO:
DTSTART:20220727T220500Z
DTEND:20220727T225000Z
LOCATION:ART 2 ART 1  IT & DESIGN  ROOM Back WOOD WORKSHOP
TRANSP:OPAQUE
SEQUENCE:0
UID:ASHBURY-420589282
DTSTAMP:20221122T195400Z
DESCRIPTION:Class 8  Karen Renee Rhys Luke
SUMMARY:[Karen] 8 Art/Dig Tech/Wood 
X-MICROSOFT-CDO-IMPORTANCE:1
CLASS:PUBLIC
PRIORITY:5
END:VEVENT
BEGIN:VEVENT
ORGANIZER:MAILTO:
DTSTART:20220803T220500Z
DTEND:20220803T225000Z
LOCATION:ART 2 ART 1  IT & DESIGN  ROOM Back WOOD WORKSHOP
TRANSP:OPAQUE
SEQUENCE:0
UID:ASHBURY-420654825
DTSTAMP:20221122T195400Z
DESCRIPTION:Class 8  Karen Renee Rhys Luke
SUMMARY:[Karen] 8 Art/Dig Tech/Wood 
X-MICROSOFT-CDO-IMPORTANCE:1
CLASS:PUBLIC
PRIORITY:5
END:VEVENT
BEGIN:VEVENT
ORGANIZER:MAILTO:
DTSTART:20220810T220500Z
DTEND:20220810T225000Z
LOCATION:ART 2 ART 1  IT & DESIGN  ROOM Back WOOD WORKSHOP
TRANSP:OPAQUE
SEQUENCE:0
UID:ASHBURY-420720368
DTSTAMP:20221122T195400Z
DESCRIPTION:Class 8  Karen Renee Rhys Luke
SUMMARY:[Karen] 8 Art/Dig Tech/Wood 
X-MICROSOFT-CDO-IMPORTANCE:1
CLASS:PUBLIC
PRIORITY:5
END:VEVENT
BEGIN:VEVENT
ORGANIZER:MAILTO:
DTSTART:20220721T220500Z
DTEND:20220721T225000Z
LOCATION:ART 2 ART 1  IT & DESIGN  ROOM Back WOOD WORKSHOP
TRANSP:OPAQUE
SEQUENCE:0
UID:ASHBURY-420785884
DTSTAMP:20221122T195400Z
DESCRIPTION:Class 8  Karen Renee Rhys Luke
SUMMARY:[Karen] 8 Art/Dig Tech/Wood 
X-MICROSOFT-CDO-IMPORTANCE:1
CLASS:PUBLIC
PRIORITY:5
END:VEVENT
BEGIN:VEVENT
ORGANIZER:MAILTO:
DTSTART:20220728T220500Z
DTEND:20220728T225000Z
LOCATION:ART 2 ART 1  IT & DESIGN  ROOM Back WOOD WORKSHOP
TRANSP:OPAQUE
SEQUENCE:0
UID:ASHBURY-420851427
DTSTAMP:20221122T195400Z
DESCRIPTION:Class 8  Karen Renee Rhys Luke
SUMMARY:[Karen] 8 Art/Dig Tech/Wood 
X-MICROSOFT-CDO-IMPORTANCE:1
CLASS:PUBLIC
PRIORITY:5
END:VEVENT
BEGIN:VEVENT
ORGANIZER:MAILTO:
DTSTART:20220804T220500Z
DTEND:20220804T225000Z
LOCATION:ART 2 ART 1  IT & DESIGN  ROOM Back WOOD WORKSHOP
TRANSP:OPAQUE
SEQUENCE:0
UID:ASHBURY-420916970
DTSTAMP:20221122T195400Z
DESCRIPTION:Class 8  Karen Renee Rhys Luke
SUMMARY:[Karen] 8 Art/Dig Tech/Wood 
X-MICROSOFT-CDO-IMPORTANCE:1
CLASS:PUBLIC
PRIORITY:5
END:VEVENT
BEGIN:VEVENT
ORGANIZER:MAILTO:
DTSTART:20220811T220500Z
DTEND:20220811T225000Z
LOCATION:ART 2 ART 1  IT & DESIGN  ROOM Back WOOD WORKSHOP
TRANSP:OPAQUE
SEQUENCE:0
UID:ASHBURY-420982513
DTSTAMP:20221122T195400Z
DESCRIPTION:Class 8  Karen Renee Rhys Luke
SUMMARY:[Karen] 8 Art/Dig Tech/Wood 
X-MICROSOFT-CDO-IMPORTANCE:1
CLASS:PUBLIC
PRIORITY:5
END:VEVENT
BEGIN:VEVENT
ORGANIZER:MAILTO:
DTSTART:20221127T220500Z
DTEND:20221127T225000Z
LOCATION:ART 2 ART 1  IT & DESIGN  ROOM Back WOOD WORKSHOP
TRANSP:OPAQUE
SEQUENCE:0
UID:ASHBURY-421048157
DTSTAMP:20221122T195400Z
DESCRIPTION:Class 8  Karen Renee Rhys Luke
SUMMARY:[Karen] 8 Art/Dig Tech/Wood 
X-MICROSOFT-CDO-IMPORTANCE:1
CLASS:PUBLIC
PRIORITY:5
END:VEVENT
BEGIN:VEVENT
ORGANIZER:MAILTO:
DTSTART:20221204T220500Z
DTEND:20221204T225000Z
LOCATION:ART 2 ART 1  IT & DESIGN  ROOM Back WOOD WORKSHOP
TRANSP:OPAQUE
SEQUENCE:0
UID:ASHBURY-421113700
DTSTAMP:20221122T195400Z
DESCRIPTION:Class 8  Karen Renee Rhys Luke
SUMMARY:[Karen] 8 Art/Dig Tech/Wood 
X-MICROSOFT-CDO-IMPORTANCE:1
CLASS:PUBLIC
PRIORITY:5
END:VEVENT
BEGIN:VEVENT
ORGANIZER:MAILTO:
DTSTART:20221211T220500Z
DTEND:20221211T225000Z
LOCATION:ART 2 ART 1  IT & DESIGN  ROOM Back WOOD WORKSHOP
TRANSP:OPAQUE
SEQUENCE:0
UID:ASHBURY-421179243
DTSTAMP:20221122T195400Z
DESCRIPTION:Class 8  Karen Renee Rhys Luke
SUMMARY:[Karen] 8 Art/Dig Tech/Wood 
X-MICROSOFT-CDO-IMPORTANCE:1
CLASS:PUBLIC
PRIORITY:5
END:VEVENT
BEGIN:VEVENT
ORGANIZER:MAILTO:
DTSTART:20221128T000000Z
DTEND:20221128T013000Z
LOCATION:ROOM 7P ROOM 7A METAL WORKSHOP TEXTILES ROOM
TRANSP:OPAQUE
SEQUENCE:0
UID:ASHBURY-421244765
DTSTAMP:20221122T195400Z
DESCRIPTION:Class 7P Class 7A Renee Karen Nick Vanessa
SUMMARY:[Karen] 7 Art/Metal/Textiles T4B3
X-MICROSOFT-CDO-IMPORTANCE:1
CLASS:PUBLIC
PRIORITY:5
END:VEVENT
BEGIN:VEVENT
ORGANIZER:MAILTO:
DTSTART:20221205T000000Z
DTEND:20221205T013000Z
LOCATION:ROOM 7P ROOM 7A METAL WORKSHOP TEXTILES ROOM
TRANSP:OPAQUE
SEQUENCE:0
UID:ASHBURY-421310308
DTSTAMP:20221122T195400Z
DESCRIPTION:Class 7P Class 7A Renee Karen Nick Vanessa
SUMMARY:[Karen] 7 Art/Metal/Textiles T4B3
X-MICROSOFT-CDO-IMPORTANCE:1
CLASS:PUBLIC
PRIORITY:5
END:VEVENT
BEGIN:VEVENT
ORGANIZER:MAILTO:
DTSTART:20221212T000000Z
DTEND:20221212T013000Z
LOCATION:ROOM 7P ROOM 7A METAL WORKSHOP TEXTILES ROOM
TRANSP:OPAQUE
SEQUENCE:0
UID:ASHBURY-421375851
DTSTAMP:20221122T195400Z
DESCRIPTION:Class 7P Class 7A Renee Karen Nick Vanessa
SUMMARY:[Karen] 7 Art/Metal/Textiles T4B3
X-MICROSOFT-CDO-IMPORTANCE:1
CLASS:PUBLIC
PRIORITY:5
END:VEVENT
BEGIN:VEVENT
ORGANIZER:MAILTO:
DTSTART:20221128T220500Z
DTEND:20221128T225000Z
LOCATION:ART 2 ART 1  IT & DESIGN  ROOM Back WOOD WORKSHOP
TRANSP:OPAQUE
SEQUENCE:0
UID:ASHBURY-421441374
DTSTAMP:20221122T195400Z
DESCRIPTION:Class 8  Karen Renee Rhys Luke
SUMMARY:[Karen] 8 Art/Dig Tech/Wood 
X-MICROSOFT-CDO-IMPORTANCE:1
CLASS:PUBLIC
PRIORITY:5
END:VEVENT
BEGIN:VEVENT
ORGANIZER:MAILTO:
DTSTART:20221205T220500Z
DTEND:20221205T225000Z
LOCATION:ART 2 ART 1  IT & DESIGN  ROOM Back WOOD WORKSHOP
TRANSP:OPAQUE
SEQUENCE:0
UID:ASHBURY-421506917
DTSTAMP:20221122T195400Z
DESCRIPTION:Class 8  Karen Renee Rhys Luke
SUMMARY:[Karen] 8 Art/Dig Tech/Wood 
X-MICROSOFT-CDO-IMPORTANCE:1
CLASS:PUBLIC
PRIORITY:5
END:VEVENT
BEGIN:VEVENT
ORGANIZER:MAILTO:
DTSTART:20221212T220500Z
DTEND:20221212T225000Z
LOCATION:ART 2 ART 1  IT & DESIGN  ROOM Back WOOD WORKSHOP
TRANSP:OPAQUE
SEQUENCE:0
UID:ASHBURY-421572460
DTSTAMP:20221122T195400Z
DESCRIPTION:Class 8  Karen Renee Rhys Luke
SUMMARY:[Karen] 8 Art/Dig Tech/Wood 
X-MICROSOFT-CDO-IMPORTANCE:1
CLASS:PUBLIC
PRIORITY:5
END:VEVENT
BEGIN:VEVENT
ORGANIZER:MAILTO:
DTSTART:20221129T220500Z
DTEND:20221129T225000Z
LOCATION:ART 2 ART 1  IT & DESIGN  ROOM Back WOOD WORKSHOP
TRANSP:OPAQUE
SEQUENCE:0
UID:ASHBURY-421637983
DTSTAMP:20221122T195400Z
DESCRIPTION:Class 8  Karen Renee Rhys Luke
SUMMARY:[Karen] 8 Art/Dig Tech/Wood 
X-MICROSOFT-CDO-IMPORTANCE:1
CLASS:PUBLIC
PRIORITY:5
END:VEVENT
BEGIN:VEVENT
ORGANIZER:MAILTO:
DTSTART:20221206T220500Z
DTEND:20221206T225000Z
LOCATION:ART 2 ART 1  IT & DESIGN  ROOM Back WOOD WORKSHOP
TRANSP:OPAQUE
SEQUENCE:0
UID:ASHBURY-421703526
DTSTAMP:20221122T195400Z
DESCRIPTION:Class 8  Karen Renee Rhys Luke
SUMMARY:[Karen] 8 Art/Dig Tech/Wood 
X-MICROSOFT-CDO-IMPORTANCE:1
CLASS:PUBLIC
PRIORITY:5
END:VEVENT
BEGIN:VEVENT
ORGANIZER:MAILTO:
DTSTART:20221213T220500Z
DTEND:20221213T225000Z
LOCATION:ART 2 ART 1  IT & DESIGN  ROOM Back WOOD WORKSHOP
TRANSP:OPAQUE
SEQUENCE:0
UID:ASHBURY-421769069
DTSTAMP:20221122T195400Z
DESCRIPTION:Class 8  Karen Renee Rhys Luke
SUMMARY:[Karen] 8 Art/Dig Tech/Wood 
X-MICROSOFT-CDO-IMPORTANCE:1
CLASS:PUBLIC
PRIORITY:5
END:VEVENT
BEGIN:VEVENT
ORGANIZER:MAILTO:
DTSTART:20221130T220500Z
DTEND:20221130T225000Z
LOCATION:ART 2 ART 1  IT & DESIGN  ROOM Back WOOD WORKSHOP
TRANSP:OPAQUE
SEQUENCE:0
UID:ASHBURY-421834592
DTSTAMP:20221122T195400Z
DESCRIPTION:Class 8  Karen Renee Rhys Luke
SUMMARY:[Karen] 8 Art/Dig Tech/Wood 
X-MICROSOFT-CDO-IMPORTANCE:1
CLASS:PUBLIC
PRIORITY:5
END:VEVENT
BEGIN:VEVENT
ORGANIZER:MAILTO:
DTSTART:20221207T220500Z
DTEND:20221207T225000Z
LOCATION:ART 2 ART 1  IT & DESIGN  ROOM Back WOOD WORKSHOP
TRANSP:OPAQUE
SEQUENCE:0
UID:ASHBURY-421900135
DTSTAMP:20221122T195400Z
DESCRIPTION:Class 8  Karen Renee Rhys Luke
SUMMARY:[Karen] 8 Art/Dig Tech/Wood 
X-MICROSOFT-CDO-IMPORTANCE:1
CLASS:PUBLIC
PRIORITY:5
END:VEVENT
BEGIN:VEVENT
ORGANIZER:MAILTO:
DTSTART:20221214T220500Z
DTEND:20221214T225000Z
LOCATION:ART 2 ART 1  IT & DESIGN  ROOM Back WOOD WORKSHOP
TRANSP:OPAQUE
SEQUENCE:0
UID:ASHBURY-421965678
DTSTAMP:20221122T195400Z
DESCRIPTION:Class 8  Karen Renee Rhys Luke
SUMMARY:[Karen] 8 Art/Dig Tech/Wood 
X-MICROSOFT-CDO-IMPORTANCE:1
CLASS:PUBLIC
PRIORITY:5
END:VEVENT
BEGIN:VEVENT
ORGANIZER:MAILTO:
DTSTART:20221201T220500Z
DTEND:20221201T225000Z
LOCATION:ART 2 ART 1  IT & DESIGN  ROOM Back WOOD WORKSHOP
TRANSP:OPAQUE
SEQUENCE:0
UID:ASHBURY-422031201
DTSTAMP:20221122T195400Z
DESCRIPTION:Class 8  Karen Renee Rhys Luke
SUMMARY:[Karen] 8 Art/Dig Tech/Wood 
X-MICROSOFT-CDO-IMPORTANCE:1
CLASS:PUBLIC
PRIORITY:5
END:VEVENT
BEGIN:VEVENT
ORGANIZER:MAILTO:
DTSTART:20221208T220500Z
DTEND:20221208T225000Z
LOCATION:ART 2 ART 1  IT & DESIGN  ROOM Back WOOD WORKSHOP
TRANSP:OPAQUE
SEQUENCE:0
UID:ASHBURY-422096744
DTSTAMP:20221122T195400Z
DESCRIPTION:Class 8  Karen Renee Rhys Luke
SUMMARY:[Karen] 8 Art/Dig Tech/Wood 
X-MICROSOFT-CDO-IMPORTANCE:1
CLASS:PUBLIC
PRIORITY:5
END:VEVENT
BEGIN:VEVENT
ORGANIZER:MAILTO:
DTSTART:20221215T220500Z
DTEND:20221215T225000Z
LOCATION:ART 2 ART 1  IT & DESIGN  ROOM Back WOOD WORKSHOP
TRANSP:OPAQUE
SEQUENCE:0
UID:ASHBURY-422162287
DTSTAMP:20221122T195400Z
DESCRIPTION:Class 8  Karen Renee Rhys Luke
SUMMARY:[Karen] 8 Art/Dig Tech/Wood 
X-MICROSOFT-CDO-IMPORTANCE:1
CLASS:PUBLIC
PRIORITY:5
END:VEVENT
END:VCALENDAR
