BEGIN:VCALENDAR
PRODID:-
VERSION:2.0
METHOD:PUBLISH
BEGIN:VEVENT
ORGANIZER:MAILTO:
DTSTART:20220303T010000Z
DTEND:20220303T014500Z
LOCATION:DARKROOM IT & DESIGN  ROOM Front Multi - Purpose Room METAL WORKSHOP WOOD WORKSHOP ART 1  KITCHEN MUSIC BARN FIG TREE-MUSIC ROOM
TRANSP:OPAQUE
SEQUENCE:0
UID:MultiPurpose-1623830095
DTSTAMP:20221122T195400Z
DESCRIPTION:Class 9  Class 10   Pele David S Tony Nick Renee Vanessa David P Rhys
SUMMARY:[Multi - Purpose Room] 9/10 Electives T1E
X-MICROSOFT-CDO-IMPORTANCE:1
CLASS:PUBLIC
PRIORITY:5
END:VEVENT
BEGIN:VEVENT
ORGANIZER:MAILTO:
DTSTART:20220310T010000Z
DTEND:20220310T014500Z
LOCATION:DARKROOM IT & DESIGN  ROOM Front Multi - Purpose Room METAL WORKSHOP WOOD WORKSHOP ART 1  KITCHEN MUSIC BARN FIG TREE-MUSIC ROOM
TRANSP:OPAQUE
SEQUENCE:0
UID:MultiPurpose-1623895638
DTSTAMP:20221122T195400Z
DESCRIPTION:Class 9  Class 10   Pele David S Tony Nick Renee Vanessa David P Rhys
SUMMARY:[Multi - Purpose Room] 9/10 Electives T1E
X-MICROSOFT-CDO-IMPORTANCE:1
CLASS:PUBLIC
PRIORITY:5
END:VEVENT
BEGIN:VEVENT
ORGANIZER:MAILTO:
DTSTART:20220317T010000Z
DTEND:20220317T014500Z
LOCATION:DARKROOM IT & DESIGN  ROOM Front Multi - Purpose Room METAL WORKSHOP WOOD WORKSHOP ART 1  KITCHEN MUSIC BARN FIG TREE-MUSIC ROOM
TRANSP:OPAQUE
SEQUENCE:0
UID:MultiPurpose-1623961181
DTSTAMP:20221122T195400Z
DESCRIPTION:Class 9  Class 10   Pele David S Tony Nick Renee Vanessa David P Rhys
SUMMARY:[Multi - Purpose Room] 9/10 Electives T1E
X-MICROSOFT-CDO-IMPORTANCE:1
CLASS:PUBLIC
PRIORITY:5
END:VEVENT
BEGIN:VEVENT
ORGANIZER:MAILTO:
DTSTART:20220718T000000Z
DTEND:20220718T004500Z
LOCATION:DARKROOM IT & DESIGN  ROOM Front METAL WORKSHOP WOOD WORKSHOP ART 2 MUSIC BARN FIG TREE-MUSIC ROOM KITCHEN AGRICULTURE SHED TEXTILES ROOM EURYTHMY ROOM Multi - Purpose Room HSIE ROOM
TRANSP:OPAQUE
SEQUENCE:0
UID:MultiPurpose-1624026840
DTSTAMP:20221122T195400Z
DESCRIPTION:Class 9  Class 10   Pele Luke Nick Deirdre David P Ross Andrew Vanessa Renee David S Rhys
SUMMARY:[Multi - Purpose Room] 9/10 Electives T3
X-MICROSOFT-CDO-IMPORTANCE:1
CLASS:PUBLIC
PRIORITY:5
END:VEVENT
BEGIN:VEVENT
ORGANIZER:MAILTO:
DTSTART:20220725T000000Z
DTEND:20220725T004500Z
LOCATION:DARKROOM IT & DESIGN  ROOM Front METAL WORKSHOP WOOD WORKSHOP ART 2 MUSIC BARN FIG TREE-MUSIC ROOM KITCHEN AGRICULTURE SHED TEXTILES ROOM EURYTHMY ROOM Multi - Purpose Room HSIE ROOM
TRANSP:OPAQUE
SEQUENCE:0
UID:MultiPurpose-1624092383
DTSTAMP:20221122T195400Z
DESCRIPTION:Class 9  Class 10   Pele Luke Nick Deirdre David P Ross Andrew Vanessa Renee David S Rhys
SUMMARY:[Multi - Purpose Room] 9/10 Electives T3
X-MICROSOFT-CDO-IMPORTANCE:1
CLASS:PUBLIC
PRIORITY:5
END:VEVENT
BEGIN:VEVENT
ORGANIZER:MAILTO:
DTSTART:20220801T000000Z
DTEND:20220801T004500Z
LOCATION:DARKROOM IT & DESIGN  ROOM Front METAL WORKSHOP WOOD WORKSHOP ART 2 MUSIC BARN FIG TREE-MUSIC ROOM KITCHEN AGRICULTURE SHED TEXTILES ROOM EURYTHMY ROOM Multi - Purpose Room HSIE ROOM
TRANSP:OPAQUE
SEQUENCE:0
UID:MultiPurpose-1624157926
DTSTAMP:20221122T195400Z
DESCRIPTION:Class 9  Class 10   Pele Luke Nick Deirdre David P Ross Andrew Vanessa Renee David S Rhys
SUMMARY:[Multi - Purpose Room] 9/10 Electives T3
X-MICROSOFT-CDO-IMPORTANCE:1
CLASS:PUBLIC
PRIORITY:5
END:VEVENT
BEGIN:VEVENT
ORGANIZER:MAILTO:
DTSTART:20220808T000000Z
DTEND:20220808T004500Z
LOCATION:DARKROOM IT & DESIGN  ROOM Front METAL WORKSHOP WOOD WORKSHOP ART 2 MUSIC BARN FIG TREE-MUSIC ROOM KITCHEN AGRICULTURE SHED TEXTILES ROOM EURYTHMY ROOM Multi - Purpose Room HSIE ROOM
TRANSP:OPAQUE
SEQUENCE:0
UID:MultiPurpose-1624223469
DTSTAMP:20221122T195400Z
DESCRIPTION:Class 9  Class 10   Pele Luke Nick Deirdre David P Ross Andrew Vanessa Renee David S Rhys
SUMMARY:[Multi - Purpose Room] 9/10 Electives T3
X-MICROSOFT-CDO-IMPORTANCE:1
CLASS:PUBLIC
PRIORITY:5
END:VEVENT
BEGIN:VEVENT
ORGANIZER:MAILTO:
DTSTART:20220718T010000Z
DTEND:20220718T014500Z
LOCATION:DARKROOM IT & DESIGN  ROOM Front METAL WORKSHOP WOOD WORKSHOP ART 2 MUSIC BARN FIG TREE-MUSIC ROOM KITCHEN AGRICULTURE SHED TEXTILES ROOM Multi - Purpose Room HSIE ROOM
TRANSP:OPAQUE
SEQUENCE:0
UID:MultiPurpose-1624288984
DTSTAMP:20221122T195400Z
DESCRIPTION:Class 9  Class 10   Pele Luke Nick Deirdre David P Andrew Vanessa Renee David S Rhys
SUMMARY:[Multi - Purpose Room] 9/10 Electives T3E
X-MICROSOFT-CDO-IMPORTANCE:1
CLASS:PUBLIC
PRIORITY:5
END:VEVENT
BEGIN:VEVENT
ORGANIZER:MAILTO:
DTSTART:20220725T010000Z
DTEND:20220725T014500Z
LOCATION:DARKROOM IT & DESIGN  ROOM Front METAL WORKSHOP WOOD WORKSHOP ART 2 MUSIC BARN FIG TREE-MUSIC ROOM KITCHEN AGRICULTURE SHED TEXTILES ROOM Multi - Purpose Room HSIE ROOM
TRANSP:OPAQUE
SEQUENCE:0
UID:MultiPurpose-1624354527
DTSTAMP:20221122T195400Z
DESCRIPTION:Class 9  Class 10   Pele Luke Nick Deirdre David P Andrew Vanessa Renee David S Rhys
SUMMARY:[Multi - Purpose Room] 9/10 Electives T3E
X-MICROSOFT-CDO-IMPORTANCE:1
CLASS:PUBLIC
PRIORITY:5
END:VEVENT
BEGIN:VEVENT
ORGANIZER:MAILTO:
DTSTART:20220801T010000Z
DTEND:20220801T014500Z
LOCATION:DARKROOM IT & DESIGN  ROOM Front METAL WORKSHOP WOOD WORKSHOP ART 2 MUSIC BARN FIG TREE-MUSIC ROOM KITCHEN AGRICULTURE SHED TEXTILES ROOM Multi - Purpose Room HSIE ROOM
TRANSP:OPAQUE
SEQUENCE:0
UID:MultiPurpose-1624420070
DTSTAMP:20221122T195400Z
DESCRIPTION:Class 9  Class 10   Pele Luke Nick Deirdre David P Andrew Vanessa Renee David S Rhys
SUMMARY:[Multi - Purpose Room] 9/10 Electives T3E
X-MICROSOFT-CDO-IMPORTANCE:1
CLASS:PUBLIC
PRIORITY:5
END:VEVENT
BEGIN:VEVENT
ORGANIZER:MAILTO:
DTSTART:20220808T010000Z
DTEND:20220808T014500Z
LOCATION:DARKROOM IT & DESIGN  ROOM Front METAL WORKSHOP WOOD WORKSHOP ART 2 MUSIC BARN FIG TREE-MUSIC ROOM KITCHEN AGRICULTURE SHED TEXTILES ROOM Multi - Purpose Room HSIE ROOM
TRANSP:OPAQUE
SEQUENCE:0
UID:MultiPurpose-1624485613
DTSTAMP:20221122T195400Z
DESCRIPTION:Class 9  Class 10   Pele Luke Nick Deirdre David P Andrew Vanessa Renee David S Rhys
SUMMARY:[Multi - Purpose Room] 9/10 Electives T3E
X-MICROSOFT-CDO-IMPORTANCE:1
CLASS:PUBLIC
PRIORITY:5
END:VEVENT
BEGIN:VEVENT
ORGANIZER:MAILTO:
DTSTART:20220721T153000Z
DTEND:20220721T161500Z
LOCATION:DARKROOM IT & DESIGN  ROOM Front METAL WORKSHOP WOOD WORKSHOP ART 2 MUSIC BARN FIG TREE-MUSIC ROOM KITCHEN AGRICULTURE SHED TEXTILES ROOM Multi - Purpose Room HSIE ROOM
TRANSP:OPAQUE
SEQUENCE:0
UID:MultiPurpose-1624551131
DTSTAMP:20221122T195400Z
DESCRIPTION:Class 9  Class 10   Pele Luke Nick Deirdre David P Andrew Vanessa Renee David S Rhys
SUMMARY:[Multi - Purpose Room] 9/10 Electives T3E
X-MICROSOFT-CDO-IMPORTANCE:1
CLASS:PUBLIC
PRIORITY:5
END:VEVENT
BEGIN:VEVENT
ORGANIZER:MAILTO:
DTSTART:20220728T153000Z
DTEND:20220728T161500Z
LOCATION:DARKROOM IT & DESIGN  ROOM Front METAL WORKSHOP WOOD WORKSHOP ART 2 MUSIC BARN FIG TREE-MUSIC ROOM KITCHEN AGRICULTURE SHED TEXTILES ROOM Multi - Purpose Room HSIE ROOM
TRANSP:OPAQUE
SEQUENCE:0
UID:MultiPurpose-1624616674
DTSTAMP:20221122T195400Z
DESCRIPTION:Class 9  Class 10   Pele Luke Nick Deirdre David P Andrew Vanessa Renee David S Rhys
SUMMARY:[Multi - Purpose Room] 9/10 Electives T3E
X-MICROSOFT-CDO-IMPORTANCE:1
CLASS:PUBLIC
PRIORITY:5
END:VEVENT
BEGIN:VEVENT
ORGANIZER:MAILTO:
DTSTART:20220804T153000Z
DTEND:20220804T161500Z
LOCATION:DARKROOM IT & DESIGN  ROOM Front METAL WORKSHOP WOOD WORKSHOP ART 2 MUSIC BARN FIG TREE-MUSIC ROOM KITCHEN AGRICULTURE SHED TEXTILES ROOM Multi - Purpose Room HSIE ROOM
TRANSP:OPAQUE
SEQUENCE:0
UID:MultiPurpose-1624682217
DTSTAMP:20221122T195400Z
DESCRIPTION:Class 9  Class 10   Pele Luke Nick Deirdre David P Andrew Vanessa Renee David S Rhys
SUMMARY:[Multi - Purpose Room] 9/10 Electives T3E
X-MICROSOFT-CDO-IMPORTANCE:1
CLASS:PUBLIC
PRIORITY:5
END:VEVENT
BEGIN:VEVENT
ORGANIZER:MAILTO:
DTSTART:20220811T153000Z
DTEND:20220811T161500Z
LOCATION:DARKROOM IT & DESIGN  ROOM Front METAL WORKSHOP WOOD WORKSHOP ART 2 MUSIC BARN FIG TREE-MUSIC ROOM KITCHEN AGRICULTURE SHED TEXTILES ROOM Multi - Purpose Room HSIE ROOM
TRANSP:OPAQUE
SEQUENCE:0
UID:MultiPurpose-1624747760
DTSTAMP:20221122T195400Z
DESCRIPTION:Class 9  Class 10   Pele Luke Nick Deirdre David P Andrew Vanessa Renee David S Rhys
SUMMARY:[Multi - Purpose Room] 9/10 Electives T3E
X-MICROSOFT-CDO-IMPORTANCE:1
CLASS:PUBLIC
PRIORITY:5
END:VEVENT
BEGIN:VEVENT
ORGANIZER:MAILTO:
DTSTART:20220817T000000Z
DTEND:20220817T004500Z
LOCATION:DARKROOM IT & DESIGN  ROOM Front METAL WORKSHOP WOOD WORKSHOP ART 2 MUSIC BARN FIG TREE-MUSIC ROOM KITCHEN AGRICULTURE SHED TEXTILES ROOM EURYTHMY ROOM Multi - Purpose Room HSIE ROOM
TRANSP:OPAQUE
SEQUENCE:0
UID:MultiPurpose-1624813302
DTSTAMP:20221122T195400Z
DESCRIPTION:Class 9  Class 10   Pele Luke Nick Deirdre David P Ross Andrew Vanessa Renee David S Rhys
SUMMARY:[Multi - Purpose Room] 9/10 Electives T3
X-MICROSOFT-CDO-IMPORTANCE:1
CLASS:PUBLIC
PRIORITY:5
END:VEVENT
BEGIN:VEVENT
ORGANIZER:MAILTO:
DTSTART:20220824T000000Z
DTEND:20220824T004500Z
LOCATION:DARKROOM IT & DESIGN  ROOM Front METAL WORKSHOP WOOD WORKSHOP ART 2 MUSIC BARN FIG TREE-MUSIC ROOM KITCHEN AGRICULTURE SHED TEXTILES ROOM EURYTHMY ROOM Multi - Purpose Room HSIE ROOM
TRANSP:OPAQUE
SEQUENCE:0
UID:MultiPurpose-1624878845
DTSTAMP:20221122T195400Z
DESCRIPTION:Class 9  Class 10   Pele Luke Nick Deirdre David P Ross Andrew Vanessa Renee David S Rhys
SUMMARY:[Multi - Purpose Room] 9/10 Electives T3
X-MICROSOFT-CDO-IMPORTANCE:1
CLASS:PUBLIC
PRIORITY:5
END:VEVENT
BEGIN:VEVENT
ORGANIZER:MAILTO:
DTSTART:20220831T000000Z
DTEND:20220831T004500Z
LOCATION:DARKROOM IT & DESIGN  ROOM Front METAL WORKSHOP WOOD WORKSHOP ART 2 MUSIC BARN FIG TREE-MUSIC ROOM KITCHEN AGRICULTURE SHED TEXTILES ROOM EURYTHMY ROOM Multi - Purpose Room HSIE ROOM
TRANSP:OPAQUE
SEQUENCE:0
UID:MultiPurpose-1624944388
DTSTAMP:20221122T195400Z
DESCRIPTION:Class 9  Class 10   Pele Luke Nick Deirdre David P Ross Andrew Vanessa Renee David S Rhys
SUMMARY:[Multi - Purpose Room] 9/10 Electives T3
X-MICROSOFT-CDO-IMPORTANCE:1
CLASS:PUBLIC
PRIORITY:5
END:VEVENT
BEGIN:VEVENT
ORGANIZER:MAILTO:
DTSTART:20220819T010000Z
DTEND:20220819T014500Z
LOCATION:DARKROOM IT & DESIGN  ROOM Front METAL WORKSHOP WOOD WORKSHOP ART 2 MUSIC BARN FIG TREE-MUSIC ROOM KITCHEN AGRICULTURE SHED TEXTILES ROOM EURYTHMY ROOM Multi - Purpose Room HSIE ROOM
TRANSP:OPAQUE
SEQUENCE:0
UID:MultiPurpose-1625009912
DTSTAMP:20221122T195400Z
DESCRIPTION:Class 9  Class 10   Pele Luke Nick Deirdre David P Ross Andrew Vanessa Renee David S Rhys
SUMMARY:[Multi - Purpose Room] 9/10 Electives T3
X-MICROSOFT-CDO-IMPORTANCE:1
CLASS:PUBLIC
PRIORITY:5
END:VEVENT
BEGIN:VEVENT
ORGANIZER:MAILTO:
DTSTART:20220826T010000Z
DTEND:20220826T014500Z
LOCATION:DARKROOM IT & DESIGN  ROOM Front METAL WORKSHOP WOOD WORKSHOP ART 2 MUSIC BARN FIG TREE-MUSIC ROOM KITCHEN AGRICULTURE SHED TEXTILES ROOM EURYTHMY ROOM Multi - Purpose Room HSIE ROOM
TRANSP:OPAQUE
SEQUENCE:0
UID:MultiPurpose-1625075455
DTSTAMP:20221122T195400Z
DESCRIPTION:Class 9  Class 10   Pele Luke Nick Deirdre David P Ross Andrew Vanessa Renee David S Rhys
SUMMARY:[Multi - Purpose Room] 9/10 Electives T3
X-MICROSOFT-CDO-IMPORTANCE:1
CLASS:PUBLIC
PRIORITY:5
END:VEVENT
BEGIN:VEVENT
ORGANIZER:MAILTO:
DTSTART:20220902T010000Z
DTEND:20220902T014500Z
LOCATION:DARKROOM IT & DESIGN  ROOM Front METAL WORKSHOP WOOD WORKSHOP ART 2 MUSIC BARN FIG TREE-MUSIC ROOM KITCHEN AGRICULTURE SHED TEXTILES ROOM EURYTHMY ROOM Multi - Purpose Room HSIE ROOM
TRANSP:OPAQUE
SEQUENCE:0
UID:MultiPurpose-1625140998
DTSTAMP:20221122T195400Z
DESCRIPTION:Class 9  Class 10   Pele Luke Nick Deirdre David P Ross Andrew Vanessa Renee David S Rhys
SUMMARY:[Multi - Purpose Room] 9/10 Electives T3
X-MICROSOFT-CDO-IMPORTANCE:1
CLASS:PUBLIC
PRIORITY:5
END:VEVENT
BEGIN:VEVENT
ORGANIZER:MAILTO:
DTSTART:20220904T220500Z
DTEND:20220904T225000Z
LOCATION:DARKROOM IT & DESIGN  ROOM Front METAL WORKSHOP WOOD WORKSHOP ART 2 MUSIC BARN FIG TREE-MUSIC ROOM KITCHEN AGRICULTURE SHED TEXTILES ROOM EURYTHMY ROOM Multi - Purpose Room HSIE ROOM
TRANSP:OPAQUE
SEQUENCE:0
UID:MultiPurpose-1625206537
DTSTAMP:20221122T195400Z
DESCRIPTION:Class 9  Class 10   Pele Luke Nick Deirdre David P Ross Andrew Vanessa Renee David S Rhys
SUMMARY:[Multi - Purpose Room] 9/10 Electives T3
X-MICROSOFT-CDO-IMPORTANCE:1
CLASS:PUBLIC
PRIORITY:5
END:VEVENT
BEGIN:VEVENT
ORGANIZER:MAILTO:
DTSTART:20220911T220500Z
DTEND:20220911T225000Z
LOCATION:DARKROOM IT & DESIGN  ROOM Front METAL WORKSHOP WOOD WORKSHOP ART 2 MUSIC BARN FIG TREE-MUSIC ROOM KITCHEN AGRICULTURE SHED TEXTILES ROOM EURYTHMY ROOM Multi - Purpose Room HSIE ROOM
TRANSP:OPAQUE
SEQUENCE:0
UID:MultiPurpose-1625272080
DTSTAMP:20221122T195400Z
DESCRIPTION:Class 9  Class 10   Pele Luke Nick Deirdre David P Ross Andrew Vanessa Renee David S Rhys
SUMMARY:[Multi - Purpose Room] 9/10 Electives T3
X-MICROSOFT-CDO-IMPORTANCE:1
CLASS:PUBLIC
PRIORITY:5
END:VEVENT
BEGIN:VEVENT
ORGANIZER:MAILTO:
DTSTART:20220918T220500Z
DTEND:20220918T225000Z
LOCATION:DARKROOM IT & DESIGN  ROOM Front METAL WORKSHOP WOOD WORKSHOP ART 2 MUSIC BARN FIG TREE-MUSIC ROOM KITCHEN AGRICULTURE SHED TEXTILES ROOM EURYTHMY ROOM Multi - Purpose Room HSIE ROOM
TRANSP:OPAQUE
SEQUENCE:0
UID:MultiPurpose-1625337623
DTSTAMP:20221122T195400Z
DESCRIPTION:Class 9  Class 10   Pele Luke Nick Deirdre David P Ross Andrew Vanessa Renee David S Rhys
SUMMARY:[Multi - Purpose Room] 9/10 Electives T3
X-MICROSOFT-CDO-IMPORTANCE:1
CLASS:PUBLIC
PRIORITY:5
END:VEVENT
BEGIN:VEVENT
ORGANIZER:MAILTO:
DTSTART:20220905T220500Z
DTEND:20220905T225000Z
LOCATION:DARKROOM IT & DESIGN  ROOM Front METAL WORKSHOP WOOD WORKSHOP ART 2 MUSIC BARN FIG TREE-MUSIC ROOM KITCHEN AGRICULTURE SHED TEXTILES ROOM EURYTHMY ROOM Multi - Purpose Room HSIE ROOM
TRANSP:OPAQUE
SEQUENCE:0
UID:MultiPurpose-1625403146
DTSTAMP:20221122T195400Z
DESCRIPTION:Class 9  Class 10   Pele Luke Nick Deirdre David P Ross Andrew Vanessa Renee David S Rhys
SUMMARY:[Multi - Purpose Room] 9/10 Electives T3
X-MICROSOFT-CDO-IMPORTANCE:1
CLASS:PUBLIC
PRIORITY:5
END:VEVENT
BEGIN:VEVENT
ORGANIZER:MAILTO:
DTSTART:20220912T220500Z
DTEND:20220912T225000Z
LOCATION:DARKROOM IT & DESIGN  ROOM Front METAL WORKSHOP WOOD WORKSHOP ART 2 MUSIC BARN FIG TREE-MUSIC ROOM KITCHEN AGRICULTURE SHED TEXTILES ROOM EURYTHMY ROOM Multi - Purpose Room HSIE ROOM
TRANSP:OPAQUE
SEQUENCE:0
UID:MultiPurpose-1625468689
DTSTAMP:20221122T195400Z
DESCRIPTION:Class 9  Class 10   Pele Luke Nick Deirdre David P Ross Andrew Vanessa Renee David S Rhys
SUMMARY:[Multi - Purpose Room] 9/10 Electives T3
X-MICROSOFT-CDO-IMPORTANCE:1
CLASS:PUBLIC
PRIORITY:5
END:VEVENT
BEGIN:VEVENT
ORGANIZER:MAILTO:
DTSTART:20220919T220500Z
DTEND:20220919T225000Z
LOCATION:DARKROOM IT & DESIGN  ROOM Front METAL WORKSHOP WOOD WORKSHOP ART 2 MUSIC BARN FIG TREE-MUSIC ROOM KITCHEN AGRICULTURE SHED TEXTILES ROOM EURYTHMY ROOM Multi - Purpose Room HSIE ROOM
TRANSP:OPAQUE
SEQUENCE:0
UID:MultiPurpose-1625534232
DTSTAMP:20221122T195400Z
DESCRIPTION:Class 9  Class 10   Pele Luke Nick Deirdre David P Ross Andrew Vanessa Renee David S Rhys
SUMMARY:[Multi - Purpose Room] 9/10 Electives T3
X-MICROSOFT-CDO-IMPORTANCE:1
CLASS:PUBLIC
PRIORITY:5
END:VEVENT
BEGIN:VEVENT
ORGANIZER:MAILTO:
DTSTART:20220906T220500Z
DTEND:20220906T225000Z
LOCATION:DARKROOM IT & DESIGN  ROOM Front METAL WORKSHOP WOOD WORKSHOP ART 2 MUSIC BARN FIG TREE-MUSIC ROOM KITCHEN AGRICULTURE SHED TEXTILES ROOM EURYTHMY ROOM Multi - Purpose Room HSIE ROOM
TRANSP:OPAQUE
SEQUENCE:0
UID:MultiPurpose-1625599755
DTSTAMP:20221122T195400Z
DESCRIPTION:Class 9  Class 10   Pele Luke Nick Deirdre David P Ross Andrew Vanessa Renee David S Rhys
SUMMARY:[Multi - Purpose Room] 9/10 Electives T3
X-MICROSOFT-CDO-IMPORTANCE:1
CLASS:PUBLIC
PRIORITY:5
END:VEVENT
BEGIN:VEVENT
ORGANIZER:MAILTO:
DTSTART:20220913T220500Z
DTEND:20220913T225000Z
LOCATION:DARKROOM IT & DESIGN  ROOM Front METAL WORKSHOP WOOD WORKSHOP ART 2 MUSIC BARN FIG TREE-MUSIC ROOM KITCHEN AGRICULTURE SHED TEXTILES ROOM EURYTHMY ROOM Multi - Purpose Room HSIE ROOM
TRANSP:OPAQUE
SEQUENCE:0
UID:MultiPurpose-1625665298
DTSTAMP:20221122T195400Z
DESCRIPTION:Class 9  Class 10   Pele Luke Nick Deirdre David P Ross Andrew Vanessa Renee David S Rhys
SUMMARY:[Multi - Purpose Room] 9/10 Electives T3
X-MICROSOFT-CDO-IMPORTANCE:1
CLASS:PUBLIC
PRIORITY:5
END:VEVENT
BEGIN:VEVENT
ORGANIZER:MAILTO:
DTSTART:20220920T220500Z
DTEND:20220920T225000Z
LOCATION:DARKROOM IT & DESIGN  ROOM Front METAL WORKSHOP WOOD WORKSHOP ART 2 MUSIC BARN FIG TREE-MUSIC ROOM KITCHEN AGRICULTURE SHED TEXTILES ROOM EURYTHMY ROOM Multi - Purpose Room HSIE ROOM
TRANSP:OPAQUE
SEQUENCE:0
UID:MultiPurpose-1625730841
DTSTAMP:20221122T195400Z
DESCRIPTION:Class 9  Class 10   Pele Luke Nick Deirdre David P Ross Andrew Vanessa Renee David S Rhys
SUMMARY:[Multi - Purpose Room] 9/10 Electives T3
X-MICROSOFT-CDO-IMPORTANCE:1
CLASS:PUBLIC
PRIORITY:5
END:VEVENT
BEGIN:VEVENT
ORGANIZER:MAILTO:
DTSTART:20220907T220500Z
DTEND:20220907T225000Z
LOCATION:DARKROOM IT & DESIGN  ROOM Front METAL WORKSHOP WOOD WORKSHOP ART 2 MUSIC BARN FIG TREE-MUSIC ROOM KITCHEN AGRICULTURE SHED TEXTILES ROOM EURYTHMY ROOM Multi - Purpose Room HSIE ROOM
TRANSP:OPAQUE
SEQUENCE:0
UID:MultiPurpose-1625796364
DTSTAMP:20221122T195400Z
DESCRIPTION:Class 9  Class 10   Pele Luke Nick Deirdre David P Ross Andrew Vanessa Renee David S Rhys
SUMMARY:[Multi - Purpose Room] 9/10 Electives T3
X-MICROSOFT-CDO-IMPORTANCE:1
CLASS:PUBLIC
PRIORITY:5
END:VEVENT
BEGIN:VEVENT
ORGANIZER:MAILTO:
DTSTART:20220914T220500Z
DTEND:20220914T225000Z
LOCATION:DARKROOM IT & DESIGN  ROOM Front METAL WORKSHOP WOOD WORKSHOP ART 2 MUSIC BARN FIG TREE-MUSIC ROOM KITCHEN AGRICULTURE SHED TEXTILES ROOM EURYTHMY ROOM Multi - Purpose Room HSIE ROOM
TRANSP:OPAQUE
SEQUENCE:0
UID:MultiPurpose-1625861907
DTSTAMP:20221122T195400Z
DESCRIPTION:Class 9  Class 10   Pele Luke Nick Deirdre David P Ross Andrew Vanessa Renee David S Rhys
SUMMARY:[Multi - Purpose Room] 9/10 Electives T3
X-MICROSOFT-CDO-IMPORTANCE:1
CLASS:PUBLIC
PRIORITY:5
END:VEVENT
BEGIN:VEVENT
ORGANIZER:MAILTO:
DTSTART:20220921T220500Z
DTEND:20220921T225000Z
LOCATION:DARKROOM IT & DESIGN  ROOM Front METAL WORKSHOP WOOD WORKSHOP ART 2 MUSIC BARN FIG TREE-MUSIC ROOM KITCHEN AGRICULTURE SHED TEXTILES ROOM EURYTHMY ROOM Multi - Purpose Room HSIE ROOM
TRANSP:OPAQUE
SEQUENCE:0
UID:MultiPurpose-1625927450
DTSTAMP:20221122T195400Z
DESCRIPTION:Class 9  Class 10   Pele Luke Nick Deirdre David P Ross Andrew Vanessa Renee David S Rhys
SUMMARY:[Multi - Purpose Room] 9/10 Electives T3
X-MICROSOFT-CDO-IMPORTANCE:1
CLASS:PUBLIC
PRIORITY:5
END:VEVENT
BEGIN:VEVENT
ORGANIZER:MAILTO:
DTSTART:20220908T220500Z
DTEND:20220908T225000Z
LOCATION:DARKROOM IT & DESIGN  ROOM Front METAL WORKSHOP WOOD WORKSHOP ART 2 MUSIC BARN FIG TREE-MUSIC ROOM KITCHEN AGRICULTURE SHED TEXTILES ROOM EURYTHMY ROOM Multi - Purpose Room HSIE ROOM
TRANSP:OPAQUE
SEQUENCE:0
UID:MultiPurpose-1625992973
DTSTAMP:20221122T195400Z
DESCRIPTION:Class 9  Class 10   Pele Luke Nick Deirdre David P Ross Andrew Vanessa Renee David S Rhys
SUMMARY:[Multi - Purpose Room] 9/10 Electives T3
X-MICROSOFT-CDO-IMPORTANCE:1
CLASS:PUBLIC
PRIORITY:5
END:VEVENT
BEGIN:VEVENT
ORGANIZER:MAILTO:
DTSTART:20220915T220500Z
DTEND:20220915T225000Z
LOCATION:DARKROOM IT & DESIGN  ROOM Front METAL WORKSHOP WOOD WORKSHOP ART 2 MUSIC BARN FIG TREE-MUSIC ROOM KITCHEN AGRICULTURE SHED TEXTILES ROOM EURYTHMY ROOM Multi - Purpose Room HSIE ROOM
TRANSP:OPAQUE
SEQUENCE:0
UID:MultiPurpose-1626058516
DTSTAMP:20221122T195400Z
DESCRIPTION:Class 9  Class 10   Pele Luke Nick Deirdre David P Ross Andrew Vanessa Renee David S Rhys
SUMMARY:[Multi - Purpose Room] 9/10 Electives T3
X-MICROSOFT-CDO-IMPORTANCE:1
CLASS:PUBLIC
PRIORITY:5
END:VEVENT
BEGIN:VEVENT
ORGANIZER:MAILTO:
DTSTART:20220922T220500Z
DTEND:20220922T225000Z
LOCATION:DARKROOM IT & DESIGN  ROOM Front METAL WORKSHOP WOOD WORKSHOP ART 2 MUSIC BARN FIG TREE-MUSIC ROOM KITCHEN AGRICULTURE SHED TEXTILES ROOM EURYTHMY ROOM Multi - Purpose Room HSIE ROOM
TRANSP:OPAQUE
SEQUENCE:0
UID:MultiPurpose-1626124059
DTSTAMP:20221122T195400Z
DESCRIPTION:Class 9  Class 10   Pele Luke Nick Deirdre David P Ross Andrew Vanessa Renee David S Rhys
SUMMARY:[Multi - Purpose Room] 9/10 Electives T3
X-MICROSOFT-CDO-IMPORTANCE:1
CLASS:PUBLIC
PRIORITY:5
END:VEVENT
END:VCALENDAR
