BEGIN:VCALENDAR
PRODID:-
VERSION:2.0
METHOD:PUBLISH
BEGIN:VEVENT
ORGANIZER:MAILTO:
DTSTART:20220201T010000Z
DTEND:20220201T014500Z
LOCATION:Violet Demountable ROOM 12
TRANSP:OPAQUE
SEQUENCE:0
UID:Violet D--1990939087
DTSTAMP:20221122T195400Z
DESCRIPTION:Class 10   Trent Morgan
SUMMARY:[Violet Demountable] 10 English 3-9
X-MICROSOFT-CDO-IMPORTANCE:1
CLASS:PUBLIC
PRIORITY:5
END:VEVENT
BEGIN:VEVENT
ORGANIZER:MAILTO:
DTSTART:20220208T010000Z
DTEND:20220208T014500Z
LOCATION:Violet Demountable ROOM 12
TRANSP:OPAQUE
SEQUENCE:0
UID:Violet D--1990873544
DTSTAMP:20221122T195400Z
DESCRIPTION:Class 10   Trent Morgan
SUMMARY:[Violet Demountable] 10 English 3-9
X-MICROSOFT-CDO-IMPORTANCE:1
CLASS:PUBLIC
PRIORITY:5
END:VEVENT
BEGIN:VEVENT
ORGANIZER:MAILTO:
DTSTART:20220215T010000Z
DTEND:20220215T014500Z
LOCATION:Violet Demountable ROOM 12
TRANSP:OPAQUE
SEQUENCE:0
UID:Violet D--1990808001
DTSTAMP:20221122T195400Z
DESCRIPTION:Class 10   Trent Morgan
SUMMARY:[Violet Demountable] 10 English 3-9
X-MICROSOFT-CDO-IMPORTANCE:1
CLASS:PUBLIC
PRIORITY:5
END:VEVENT
BEGIN:VEVENT
ORGANIZER:MAILTO:
DTSTART:20220222T010000Z
DTEND:20220222T014500Z
LOCATION:Violet Demountable ROOM 12
TRANSP:OPAQUE
SEQUENCE:0
UID:Violet D--1990742458
DTSTAMP:20221122T195400Z
DESCRIPTION:Class 10   Trent Morgan
SUMMARY:[Violet Demountable] 10 English 3-9
X-MICROSOFT-CDO-IMPORTANCE:1
CLASS:PUBLIC
PRIORITY:5
END:VEVENT
BEGIN:VEVENT
ORGANIZER:MAILTO:
DTSTART:20220204T000000Z
DTEND:20220204T004500Z
LOCATION:Violet Demountable ROOM 12
TRANSP:OPAQUE
SEQUENCE:0
UID:Violet D--1990676940
DTSTAMP:20221122T195400Z
DESCRIPTION:Class 10   Trent Morgan
SUMMARY:[Violet Demountable] 10 English 3-9
X-MICROSOFT-CDO-IMPORTANCE:1
CLASS:PUBLIC
PRIORITY:5
END:VEVENT
BEGIN:VEVENT
ORGANIZER:MAILTO:
DTSTART:20220211T000000Z
DTEND:20220211T004500Z
LOCATION:Violet Demountable ROOM 12
TRANSP:OPAQUE
SEQUENCE:0
UID:Violet D--1990611397
DTSTAMP:20221122T195400Z
DESCRIPTION:Class 10   Trent Morgan
SUMMARY:[Violet Demountable] 10 English 3-9
X-MICROSOFT-CDO-IMPORTANCE:1
CLASS:PUBLIC
PRIORITY:5
END:VEVENT
BEGIN:VEVENT
ORGANIZER:MAILTO:
DTSTART:20220218T000000Z
DTEND:20220218T004500Z
LOCATION:Violet Demountable ROOM 12
TRANSP:OPAQUE
SEQUENCE:0
UID:Violet D--1990545854
DTSTAMP:20221122T195400Z
DESCRIPTION:Class 10   Trent Morgan
SUMMARY:[Violet Demountable] 10 English 3-9
X-MICROSOFT-CDO-IMPORTANCE:1
CLASS:PUBLIC
PRIORITY:5
END:VEVENT
BEGIN:VEVENT
ORGANIZER:MAILTO:
DTSTART:20220225T000000Z
DTEND:20220225T004500Z
LOCATION:Violet Demountable ROOM 12
TRANSP:OPAQUE
SEQUENCE:0
UID:Violet D--1990480311
DTSTAMP:20221122T195400Z
DESCRIPTION:Class 10   Trent Morgan
SUMMARY:[Violet Demountable] 10 English 3-9
X-MICROSOFT-CDO-IMPORTANCE:1
CLASS:PUBLIC
PRIORITY:5
END:VEVENT
BEGIN:VEVENT
ORGANIZER:MAILTO:
DTSTART:20220301T010000Z
DTEND:20220301T014500Z
LOCATION:BLUE LAB  GREEN LAB (front) Violet Demountable
TRANSP:OPAQUE
SEQUENCE:0
UID:Violet D--1990414771
DTSTAMP:20221122T195400Z
DESCRIPTION:Class 10   Lachie Beau
SUMMARY:[Violet Demountable] 10 Maths T1 2-10
X-MICROSOFT-CDO-IMPORTANCE:1
CLASS:PUBLIC
PRIORITY:5
END:VEVENT
BEGIN:VEVENT
ORGANIZER:MAILTO:
DTSTART:20220308T010000Z
DTEND:20220308T014500Z
LOCATION:BLUE LAB  GREEN LAB (front) Violet Demountable
TRANSP:OPAQUE
SEQUENCE:0
UID:Violet D--1990349228
DTSTAMP:20221122T195400Z
DESCRIPTION:Class 10   Lachie Beau
SUMMARY:[Violet Demountable] 10 Maths T1 2-10
X-MICROSOFT-CDO-IMPORTANCE:1
CLASS:PUBLIC
PRIORITY:5
END:VEVENT
BEGIN:VEVENT
ORGANIZER:MAILTO:
DTSTART:20220315T010000Z
DTEND:20220315T014500Z
LOCATION:BLUE LAB  GREEN LAB (front) Violet Demountable
TRANSP:OPAQUE
SEQUENCE:0
UID:Violet D--1990283685
DTSTAMP:20221122T195400Z
DESCRIPTION:Class 10   Lachie Beau
SUMMARY:[Violet Demountable] 10 Maths T1 2-10
X-MICROSOFT-CDO-IMPORTANCE:1
CLASS:PUBLIC
PRIORITY:5
END:VEVENT
BEGIN:VEVENT
ORGANIZER:MAILTO:
DTSTART:20220304T000000Z
DTEND:20220304T004500Z
LOCATION:Violet Demountable BLUE LAB
TRANSP:OPAQUE
SEQUENCE:0
UID:Violet D--1990218160
DTSTAMP:20221122T195400Z
DESCRIPTION:Class 10   April  Renee
SUMMARY:[Violet Demountable] 10 English 2-10
X-MICROSOFT-CDO-IMPORTANCE:1
CLASS:PUBLIC
PRIORITY:5
END:VEVENT
BEGIN:VEVENT
ORGANIZER:MAILTO:
DTSTART:20220311T000000Z
DTEND:20220311T004500Z
LOCATION:Violet Demountable BLUE LAB
TRANSP:OPAQUE
SEQUENCE:0
UID:Violet D--1990152617
DTSTAMP:20221122T195400Z
DESCRIPTION:Class 10   April  Renee
SUMMARY:[Violet Demountable] 10 English 2-10
X-MICROSOFT-CDO-IMPORTANCE:1
CLASS:PUBLIC
PRIORITY:5
END:VEVENT
BEGIN:VEVENT
ORGANIZER:MAILTO:
DTSTART:20220318T000000Z
DTEND:20220318T004500Z
LOCATION:Violet Demountable BLUE LAB
TRANSP:OPAQUE
SEQUENCE:0
UID:Violet D--1990087074
DTSTAMP:20221122T195400Z
DESCRIPTION:Class 10   April  Renee
SUMMARY:[Violet Demountable] 10 English 2-10
X-MICROSOFT-CDO-IMPORTANCE:1
CLASS:PUBLIC
PRIORITY:5
END:VEVENT
BEGIN:VEVENT
ORGANIZER:MAILTO:
DTSTART:20220323T000000Z
DTEND:20220323T004500Z
LOCATION:ROOM 9 CREEK VIEW Violet Demountable HSIE ROOM
TRANSP:OPAQUE
SEQUENCE:0
UID:Violet D--1990021533
DTSTAMP:20221122T195400Z
DESCRIPTION:Class 10   Lindel Justin Carlo
SUMMARY:[Violet Demountable] 10 Maths 5-10 
X-MICROSOFT-CDO-IMPORTANCE:1
CLASS:PUBLIC
PRIORITY:5
END:VEVENT
BEGIN:VEVENT
ORGANIZER:MAILTO:
DTSTART:20220330T000000Z
DTEND:20220330T004500Z
LOCATION:ROOM 9 CREEK VIEW Violet Demountable HSIE ROOM
TRANSP:OPAQUE
SEQUENCE:0
UID:Violet D--1989955990
DTSTAMP:20221122T195400Z
DESCRIPTION:Class 10   Lindel Justin Carlo
SUMMARY:[Violet Demountable] 10 Maths 5-10 
X-MICROSOFT-CDO-IMPORTANCE:1
CLASS:PUBLIC
PRIORITY:5
END:VEVENT
BEGIN:VEVENT
ORGANIZER:MAILTO:
DTSTART:20220406T000000Z
DTEND:20220406T004500Z
LOCATION:ROOM 9 CREEK VIEW Violet Demountable HSIE ROOM
TRANSP:OPAQUE
SEQUENCE:0
UID:Violet D--1989890447
DTSTAMP:20221122T195400Z
DESCRIPTION:Class 10   Lindel Justin Carlo
SUMMARY:[Violet Demountable] 10 Maths 5-10 
X-MICROSOFT-CDO-IMPORTANCE:1
CLASS:PUBLIC
PRIORITY:5
END:VEVENT
BEGIN:VEVENT
ORGANIZER:MAILTO:
DTSTART:20220324T153000Z
DTEND:20220324T161500Z
LOCATION:ROOM 9 CREEK VIEW GREEN LAB (front) Violet Demountable
TRANSP:OPAQUE
SEQUENCE:0
UID:Violet D--1989824924
DTSTAMP:20221122T195400Z
DESCRIPTION:Class 10   Lindel Tom Justin
SUMMARY:[Violet Demountable] 10 Maths T3B3
X-MICROSOFT-CDO-IMPORTANCE:1
CLASS:PUBLIC
PRIORITY:5
END:VEVENT
BEGIN:VEVENT
ORGANIZER:MAILTO:
DTSTART:20220331T153000Z
DTEND:20220331T161500Z
LOCATION:ROOM 9 CREEK VIEW GREEN LAB (front) Violet Demountable
TRANSP:OPAQUE
SEQUENCE:0
UID:Violet D--1989759381
DTSTAMP:20221122T195400Z
DESCRIPTION:Class 10   Lindel Tom Justin
SUMMARY:[Violet Demountable] 10 Maths T3B3
X-MICROSOFT-CDO-IMPORTANCE:1
CLASS:PUBLIC
PRIORITY:5
END:VEVENT
BEGIN:VEVENT
ORGANIZER:MAILTO:
DTSTART:20220407T153000Z
DTEND:20220407T161500Z
LOCATION:ROOM 9 CREEK VIEW GREEN LAB (front) Violet Demountable
TRANSP:OPAQUE
SEQUENCE:0
UID:Violet D--1989693838
DTSTAMP:20221122T195400Z
DESCRIPTION:Class 10   Lindel Tom Justin
SUMMARY:[Violet Demountable] 10 Maths T3B3
X-MICROSOFT-CDO-IMPORTANCE:1
CLASS:PUBLIC
PRIORITY:5
END:VEVENT
BEGIN:VEVENT
ORGANIZER:MAILTO:
DTSTART:20220325T010000Z
DTEND:20220325T014500Z
LOCATION:ROOM 9 CREEK VIEW Violet Demountable HSIE ROOM
TRANSP:OPAQUE
SEQUENCE:0
UID:Violet D--1989628315
DTSTAMP:20221122T195400Z
DESCRIPTION:Class 10   Lindel Justin Carlo
SUMMARY:[Violet Demountable] 10 Maths 5-10 
X-MICROSOFT-CDO-IMPORTANCE:1
CLASS:PUBLIC
PRIORITY:5
END:VEVENT
BEGIN:VEVENT
ORGANIZER:MAILTO:
DTSTART:20220401T010000Z
DTEND:20220401T014500Z
LOCATION:ROOM 9 CREEK VIEW Violet Demountable HSIE ROOM
TRANSP:OPAQUE
SEQUENCE:0
UID:Violet D--1989562772
DTSTAMP:20221122T195400Z
DESCRIPTION:Class 10   Lindel Justin Carlo
SUMMARY:[Violet Demountable] 10 Maths 5-10 
X-MICROSOFT-CDO-IMPORTANCE:1
CLASS:PUBLIC
PRIORITY:5
END:VEVENT
BEGIN:VEVENT
ORGANIZER:MAILTO:
DTSTART:20220408T010000Z
DTEND:20220408T014500Z
LOCATION:ROOM 9 CREEK VIEW Violet Demountable HSIE ROOM
TRANSP:OPAQUE
SEQUENCE:0
UID:Violet D--1989497229
DTSTAMP:20221122T195400Z
DESCRIPTION:Class 10   Lindel Justin Carlo
SUMMARY:[Violet Demountable] 10 Maths 5-10 
X-MICROSOFT-CDO-IMPORTANCE:1
CLASS:PUBLIC
PRIORITY:5
END:VEVENT
BEGIN:VEVENT
ORGANIZER:MAILTO:
DTSTART:20220526T153000Z
DTEND:20220526T161500Z
LOCATION:BLUE LAB  GREEN LAB (front) Violet Demountable
TRANSP:OPAQUE
SEQUENCE:0
UID:Violet D--1989431645
DTSTAMP:20221122T195400Z
DESCRIPTION:Class 10   Siobhan Beau Justin
SUMMARY:[Violet Demountable] 10 Maths 2-10 T2 
X-MICROSOFT-CDO-IMPORTANCE:1
CLASS:PUBLIC
PRIORITY:5
END:VEVENT
BEGIN:VEVENT
ORGANIZER:MAILTO:
DTSTART:20220602T153000Z
DTEND:20220602T161500Z
LOCATION:BLUE LAB  GREEN LAB (front) Violet Demountable
TRANSP:OPAQUE
SEQUENCE:0
UID:Violet D--1989366102
DTSTAMP:20221122T195400Z
DESCRIPTION:Class 10   Siobhan Beau Justin
SUMMARY:[Violet Demountable] 10 Maths 2-10 T2 
X-MICROSOFT-CDO-IMPORTANCE:1
CLASS:PUBLIC
PRIORITY:5
END:VEVENT
BEGIN:VEVENT
ORGANIZER:MAILTO:
DTSTART:20220609T153000Z
DTEND:20220609T161500Z
LOCATION:BLUE LAB  GREEN LAB (front) Violet Demountable
TRANSP:OPAQUE
SEQUENCE:0
UID:Violet D--1989300559
DTSTAMP:20221122T195400Z
DESCRIPTION:Class 10   Siobhan Beau Justin
SUMMARY:[Violet Demountable] 10 Maths 2-10 T2 
X-MICROSOFT-CDO-IMPORTANCE:1
CLASS:PUBLIC
PRIORITY:5
END:VEVENT
BEGIN:VEVENT
ORGANIZER:MAILTO:
DTSTART:20220527T010000Z
DTEND:20220527T014500Z
LOCATION:ROOM 7P ROOM 7A Violet Demountable
TRANSP:OPAQUE
SEQUENCE:0
UID:Violet D--1989235036
DTSTAMP:20221122T195400Z
DESCRIPTION:Class 7A Class 7P Siobhan Penny
SUMMARY:[Violet Demountable] 7 Maths 
X-MICROSOFT-CDO-IMPORTANCE:1
CLASS:PUBLIC
PRIORITY:5
END:VEVENT
BEGIN:VEVENT
ORGANIZER:MAILTO:
DTSTART:20220603T010000Z
DTEND:20220603T014500Z
LOCATION:ROOM 7P ROOM 7A Violet Demountable
TRANSP:OPAQUE
SEQUENCE:0
UID:Violet D--1989169493
DTSTAMP:20221122T195400Z
DESCRIPTION:Class 7A Class 7P Siobhan Penny
SUMMARY:[Violet Demountable] 7 Maths 
X-MICROSOFT-CDO-IMPORTANCE:1
CLASS:PUBLIC
PRIORITY:5
END:VEVENT
BEGIN:VEVENT
ORGANIZER:MAILTO:
DTSTART:20220610T010000Z
DTEND:20220610T014500Z
LOCATION:ROOM 7P ROOM 7A Violet Demountable
TRANSP:OPAQUE
SEQUENCE:0
UID:Violet D--1989103950
DTSTAMP:20221122T195400Z
DESCRIPTION:Class 7A Class 7P Siobhan Penny
SUMMARY:[Violet Demountable] 7 Maths 
X-MICROSOFT-CDO-IMPORTANCE:1
CLASS:PUBLIC
PRIORITY:5
END:VEVENT
BEGIN:VEVENT
ORGANIZER:MAILTO:
DTSTART:20220720T000000Z
DTEND:20220720T004500Z
LOCATION:ROOM 9 CREEK VIEW IT & DESIGN  ROOM Front Violet Demountable
TRANSP:OPAQUE
SEQUENCE:0
UID:Violet D--1989038374
DTSTAMP:20221122T195400Z
DESCRIPTION:Class 8  Siobhan Tai Praba
SUMMARY:[Violet Demountable] 8 Maths 2-8
X-MICROSOFT-CDO-IMPORTANCE:1
CLASS:PUBLIC
PRIORITY:5
END:VEVENT
BEGIN:VEVENT
ORGANIZER:MAILTO:
DTSTART:20220727T000000Z
DTEND:20220727T004500Z
LOCATION:ROOM 9 CREEK VIEW IT & DESIGN  ROOM Front Violet Demountable
TRANSP:OPAQUE
SEQUENCE:0
UID:Violet D--1988972831
DTSTAMP:20221122T195400Z
DESCRIPTION:Class 8  Siobhan Tai Praba
SUMMARY:[Violet Demountable] 8 Maths 2-8
X-MICROSOFT-CDO-IMPORTANCE:1
CLASS:PUBLIC
PRIORITY:5
END:VEVENT
BEGIN:VEVENT
ORGANIZER:MAILTO:
DTSTART:20220803T000000Z
DTEND:20220803T004500Z
LOCATION:ROOM 9 CREEK VIEW IT & DESIGN  ROOM Front Violet Demountable
TRANSP:OPAQUE
SEQUENCE:0
UID:Violet D--1988907288
DTSTAMP:20221122T195400Z
DESCRIPTION:Class 8  Siobhan Tai Praba
SUMMARY:[Violet Demountable] 8 Maths 2-8
X-MICROSOFT-CDO-IMPORTANCE:1
CLASS:PUBLIC
PRIORITY:5
END:VEVENT
BEGIN:VEVENT
ORGANIZER:MAILTO:
DTSTART:20220810T000000Z
DTEND:20220810T004500Z
LOCATION:ROOM 9 CREEK VIEW IT & DESIGN  ROOM Front Violet Demountable
TRANSP:OPAQUE
SEQUENCE:0
UID:Violet D--1988841745
DTSTAMP:20221122T195400Z
DESCRIPTION:Class 8  Siobhan Tai Praba
SUMMARY:[Violet Demountable] 8 Maths 2-8
X-MICROSOFT-CDO-IMPORTANCE:1
CLASS:PUBLIC
PRIORITY:5
END:VEVENT
BEGIN:VEVENT
ORGANIZER:MAILTO:
DTSTART:20220722T010000Z
DTEND:20220722T014500Z
LOCATION:ROOM 9 CREEK VIEW IT & DESIGN  ROOM Front Violet Demountable
TRANSP:OPAQUE
SEQUENCE:0
UID:Violet D--1988776228
DTSTAMP:20221122T195400Z
DESCRIPTION:Class 8  Siobhan Tai Praba
SUMMARY:[Violet Demountable] 8 Maths 2-8
X-MICROSOFT-CDO-IMPORTANCE:1
CLASS:PUBLIC
PRIORITY:5
END:VEVENT
BEGIN:VEVENT
ORGANIZER:MAILTO:
DTSTART:20220729T010000Z
DTEND:20220729T014500Z
LOCATION:ROOM 9 CREEK VIEW IT & DESIGN  ROOM Front Violet Demountable
TRANSP:OPAQUE
SEQUENCE:0
UID:Violet D--1988710685
DTSTAMP:20221122T195400Z
DESCRIPTION:Class 8  Siobhan Tai Praba
SUMMARY:[Violet Demountable] 8 Maths 2-8
X-MICROSOFT-CDO-IMPORTANCE:1
CLASS:PUBLIC
PRIORITY:5
END:VEVENT
BEGIN:VEVENT
ORGANIZER:MAILTO:
DTSTART:20220805T010000Z
DTEND:20220805T014500Z
LOCATION:ROOM 9 CREEK VIEW IT & DESIGN  ROOM Front Violet Demountable
TRANSP:OPAQUE
SEQUENCE:0
UID:Violet D--1988645142
DTSTAMP:20221122T195400Z
DESCRIPTION:Class 8  Siobhan Tai Praba
SUMMARY:[Violet Demountable] 8 Maths 2-8
X-MICROSOFT-CDO-IMPORTANCE:1
CLASS:PUBLIC
PRIORITY:5
END:VEVENT
BEGIN:VEVENT
ORGANIZER:MAILTO:
DTSTART:20220812T010000Z
DTEND:20220812T014500Z
LOCATION:ROOM 9 CREEK VIEW IT & DESIGN  ROOM Front Violet Demountable
TRANSP:OPAQUE
SEQUENCE:0
UID:Violet D--1988579599
DTSTAMP:20221122T195400Z
DESCRIPTION:Class 8  Siobhan Tai Praba
SUMMARY:[Violet Demountable] 8 Maths 2-8
X-MICROSOFT-CDO-IMPORTANCE:1
CLASS:PUBLIC
PRIORITY:5
END:VEVENT
BEGIN:VEVENT
ORGANIZER:MAILTO:
DTSTART:20220906T000000Z
DTEND:20220906T004500Z
LOCATION:Violet Demountable ROOM 12
TRANSP:OPAQUE
SEQUENCE:0
UID:Violet D--1988514038
DTSTAMP:20221122T195400Z
DESCRIPTION:Class 10   Trent Morgan
SUMMARY:[Violet Demountable] 10 English 3-9
X-MICROSOFT-CDO-IMPORTANCE:1
CLASS:PUBLIC
PRIORITY:5
END:VEVENT
BEGIN:VEVENT
ORGANIZER:MAILTO:
DTSTART:20220913T000000Z
DTEND:20220913T004500Z
LOCATION:Violet Demountable ROOM 12
TRANSP:OPAQUE
SEQUENCE:0
UID:Violet D--1988448495
DTSTAMP:20221122T195400Z
DESCRIPTION:Class 10   Trent Morgan
SUMMARY:[Violet Demountable] 10 English 3-9
X-MICROSOFT-CDO-IMPORTANCE:1
CLASS:PUBLIC
PRIORITY:5
END:VEVENT
BEGIN:VEVENT
ORGANIZER:MAILTO:
DTSTART:20220920T000000Z
DTEND:20220920T004500Z
LOCATION:Violet Demountable ROOM 12
TRANSP:OPAQUE
SEQUENCE:0
UID:Violet D--1988382952
DTSTAMP:20221122T195400Z
DESCRIPTION:Class 10   Trent Morgan
SUMMARY:[Violet Demountable] 10 English 3-9
X-MICROSOFT-CDO-IMPORTANCE:1
CLASS:PUBLIC
PRIORITY:5
END:VEVENT
BEGIN:VEVENT
ORGANIZER:MAILTO:
DTSTART:20220907T000000Z
DTEND:20220907T004500Z
LOCATION:ROOM 9 CREEK VIEW GREEN LAB (front) Violet Demountable
TRANSP:OPAQUE
SEQUENCE:0
UID:Violet D--1988317429
DTSTAMP:20221122T195400Z
DESCRIPTION:Class 10   Lindel Tom Justin
SUMMARY:[Violet Demountable] 10 Maths T3B3
X-MICROSOFT-CDO-IMPORTANCE:1
CLASS:PUBLIC
PRIORITY:5
END:VEVENT
BEGIN:VEVENT
ORGANIZER:MAILTO:
DTSTART:20220914T000000Z
DTEND:20220914T004500Z
LOCATION:ROOM 9 CREEK VIEW GREEN LAB (front) Violet Demountable
TRANSP:OPAQUE
SEQUENCE:0
UID:Violet D--1988251886
DTSTAMP:20221122T195400Z
DESCRIPTION:Class 10   Lindel Tom Justin
SUMMARY:[Violet Demountable] 10 Maths T3B3
X-MICROSOFT-CDO-IMPORTANCE:1
CLASS:PUBLIC
PRIORITY:5
END:VEVENT
BEGIN:VEVENT
ORGANIZER:MAILTO:
DTSTART:20220921T000000Z
DTEND:20220921T004500Z
LOCATION:ROOM 9 CREEK VIEW GREEN LAB (front) Violet Demountable
TRANSP:OPAQUE
SEQUENCE:0
UID:Violet D--1988186343
DTSTAMP:20221122T195400Z
DESCRIPTION:Class 10   Lindel Tom Justin
SUMMARY:[Violet Demountable] 10 Maths T3B3
X-MICROSOFT-CDO-IMPORTANCE:1
CLASS:PUBLIC
PRIORITY:5
END:VEVENT
BEGIN:VEVENT
ORGANIZER:MAILTO:
DTSTART:20220908T000000Z
DTEND:20220908T013000Z
LOCATION:Violet Demountable ROOM 12
TRANSP:OPAQUE
SEQUENCE:0
UID:Violet D--1988120820
DTSTAMP:20221122T195400Z
DESCRIPTION:Class 10   Trent Morgan
SUMMARY:[Violet Demountable] 10 English 3-9
X-MICROSOFT-CDO-IMPORTANCE:1
CLASS:PUBLIC
PRIORITY:5
END:VEVENT
BEGIN:VEVENT
ORGANIZER:MAILTO:
DTSTART:20220915T000000Z
DTEND:20220915T013000Z
LOCATION:Violet Demountable ROOM 12
TRANSP:OPAQUE
SEQUENCE:0
UID:Violet D--1988055277
DTSTAMP:20221122T195400Z
DESCRIPTION:Class 10   Trent Morgan
SUMMARY:[Violet Demountable] 10 English 3-9
X-MICROSOFT-CDO-IMPORTANCE:1
CLASS:PUBLIC
PRIORITY:5
END:VEVENT
BEGIN:VEVENT
ORGANIZER:MAILTO:
DTSTART:20220922T000000Z
DTEND:20220922T013000Z
LOCATION:Violet Demountable ROOM 12
TRANSP:OPAQUE
SEQUENCE:0
UID:Violet D--1987989734
DTSTAMP:20221122T195400Z
DESCRIPTION:Class 10   Trent Morgan
SUMMARY:[Violet Demountable] 10 English 3-9
X-MICROSOFT-CDO-IMPORTANCE:1
CLASS:PUBLIC
PRIORITY:5
END:VEVENT
BEGIN:VEVENT
ORGANIZER:MAILTO:
DTSTART:20220909T010000Z
DTEND:20220909T014500Z
LOCATION:ROOM 9 CREEK VIEW GREEN LAB (front) Violet Demountable
TRANSP:OPAQUE
SEQUENCE:0
UID:Violet D--1987924211
DTSTAMP:20221122T195400Z
DESCRIPTION:Class 10   Lindel Tom Justin
SUMMARY:[Violet Demountable] 10 Maths T3B3
X-MICROSOFT-CDO-IMPORTANCE:1
CLASS:PUBLIC
PRIORITY:5
END:VEVENT
BEGIN:VEVENT
ORGANIZER:MAILTO:
DTSTART:20220916T010000Z
DTEND:20220916T014500Z
LOCATION:ROOM 9 CREEK VIEW GREEN LAB (front) Violet Demountable
TRANSP:OPAQUE
SEQUENCE:0
UID:Violet D--1987858668
DTSTAMP:20221122T195400Z
DESCRIPTION:Class 10   Lindel Tom Justin
SUMMARY:[Violet Demountable] 10 Maths T3B3
X-MICROSOFT-CDO-IMPORTANCE:1
CLASS:PUBLIC
PRIORITY:5
END:VEVENT
BEGIN:VEVENT
ORGANIZER:MAILTO:
DTSTART:20220923T010000Z
DTEND:20220923T014500Z
LOCATION:ROOM 9 CREEK VIEW GREEN LAB (front) Violet Demountable
TRANSP:OPAQUE
SEQUENCE:0
UID:Violet D--1987793125
DTSTAMP:20221122T195400Z
DESCRIPTION:Class 10   Lindel Tom Justin
SUMMARY:[Violet Demountable] 10 Maths T3B3
X-MICROSOFT-CDO-IMPORTANCE:1
CLASS:PUBLIC
PRIORITY:5
END:VEVENT
BEGIN:VEVENT
ORGANIZER:MAILTO:
DTSTART:20221107T000000Z
DTEND:20221107T004500Z
LOCATION:ROOM 9 CREEK VIEW Violet Demountable GREEN LAB (back)
TRANSP:OPAQUE
SEQUENCE:0
UID:Violet D--1987727544
DTSTAMP:20221122T195400Z
DESCRIPTION:Class 9  Beau Tai Praba
SUMMARY:[Violet Demountable] 9 Maths 4-9 T4
X-MICROSOFT-CDO-IMPORTANCE:1
CLASS:PUBLIC
PRIORITY:5
END:VEVENT
BEGIN:VEVENT
ORGANIZER:MAILTO:
DTSTART:20221114T000000Z
DTEND:20221114T004500Z
LOCATION:ROOM 9 CREEK VIEW Violet Demountable GREEN LAB (back)
TRANSP:OPAQUE
SEQUENCE:0
UID:Violet D--1987662001
DTSTAMP:20221122T195400Z
DESCRIPTION:Class 9  Beau Tai Praba
SUMMARY:[Violet Demountable] 9 Maths 4-9 T4
X-MICROSOFT-CDO-IMPORTANCE:1
CLASS:PUBLIC
PRIORITY:5
END:VEVENT
BEGIN:VEVENT
ORGANIZER:MAILTO:
DTSTART:20221121T000000Z
DTEND:20221121T004500Z
LOCATION:ROOM 9 CREEK VIEW Violet Demountable GREEN LAB (back)
TRANSP:OPAQUE
SEQUENCE:0
UID:Violet D--1987596458
DTSTAMP:20221122T195400Z
DESCRIPTION:Class 9  Beau Tai Praba
SUMMARY:[Violet Demountable] 9 Maths 4-9 T4
X-MICROSOFT-CDO-IMPORTANCE:1
CLASS:PUBLIC
PRIORITY:5
END:VEVENT
BEGIN:VEVENT
ORGANIZER:MAILTO:
DTSTART:20221108T000000Z
DTEND:20221108T004500Z
LOCATION:ROOM 9 CREEK VIEW Violet Demountable HSIE ROOM
TRANSP:OPAQUE
SEQUENCE:0
UID:Violet D--1987530935
DTSTAMP:20221122T195400Z
DESCRIPTION:Class 10   Lindel Justin Carlo
SUMMARY:[Violet Demountable] 10 Maths 5-10 
X-MICROSOFT-CDO-IMPORTANCE:1
CLASS:PUBLIC
PRIORITY:5
END:VEVENT
BEGIN:VEVENT
ORGANIZER:MAILTO:
DTSTART:20221115T000000Z
DTEND:20221115T004500Z
LOCATION:ROOM 9 CREEK VIEW Violet Demountable HSIE ROOM
TRANSP:OPAQUE
SEQUENCE:0
UID:Violet D--1987465392
DTSTAMP:20221122T195400Z
DESCRIPTION:Class 10   Lindel Justin Carlo
SUMMARY:[Violet Demountable] 10 Maths 5-10 
X-MICROSOFT-CDO-IMPORTANCE:1
CLASS:PUBLIC
PRIORITY:5
END:VEVENT
BEGIN:VEVENT
ORGANIZER:MAILTO:
DTSTART:20221122T000000Z
DTEND:20221122T004500Z
LOCATION:ROOM 9 CREEK VIEW Violet Demountable HSIE ROOM
TRANSP:OPAQUE
SEQUENCE:0
UID:Violet D--1987399849
DTSTAMP:20221122T195400Z
DESCRIPTION:Class 10   Lindel Justin Carlo
SUMMARY:[Violet Demountable] 10 Maths 5-10 
X-MICROSOFT-CDO-IMPORTANCE:1
CLASS:PUBLIC
PRIORITY:5
END:VEVENT
END:VCALENDAR
