BEGIN:VCALENDAR
PRODID:-
VERSION:2.0
METHOD:PUBLISH
BEGIN:VEVENT
ORGANIZER:MAILTO:
DTSTART:20230424T000000Z
DTEND:20230424T004500Z
LOCATION:ROOM 12 ROOM 8 CREEK VIEW Orange Demountable
TRANSP:OPAQUE
SEQUENCE:0
UID:LYNE-762163184
DTSTAMP:20231112T100900Z
DESCRIPTION:Class 9  Morgan Paris Nicole
SUMMARY:[Nicole] 9 English Nicole
X-MICROSOFT-CDO-IMPORTANCE:1
CLASS:PUBLIC
PRIORITY:5
END:VEVENT
BEGIN:VEVENT
ORGANIZER:MAILTO:
DTSTART:20230501T000000Z
DTEND:20230501T004500Z
LOCATION:ROOM 12 ROOM 8 CREEK VIEW Orange Demountable
TRANSP:OPAQUE
SEQUENCE:0
UID:LYNE-762228727
DTSTAMP:20231112T100900Z
DESCRIPTION:Class 9  Morgan Paris Nicole
SUMMARY:[Nicole] 9 English Nicole
X-MICROSOFT-CDO-IMPORTANCE:1
CLASS:PUBLIC
PRIORITY:5
END:VEVENT
BEGIN:VEVENT
ORGANIZER:MAILTO:
DTSTART:20230508T000000Z
DTEND:20230508T004500Z
LOCATION:ROOM 12 ROOM 8 CREEK VIEW Orange Demountable
TRANSP:OPAQUE
SEQUENCE:0
UID:LYNE-762294270
DTSTAMP:20231112T100900Z
DESCRIPTION:Class 9  Morgan Paris Nicole
SUMMARY:[Nicole] 9 English Nicole
X-MICROSOFT-CDO-IMPORTANCE:1
CLASS:PUBLIC
PRIORITY:5
END:VEVENT
BEGIN:VEVENT
ORGANIZER:MAILTO:
DTSTART:20230515T000000Z
DTEND:20230515T004500Z
LOCATION:ROOM 12 ROOM 8 CREEK VIEW Orange Demountable
TRANSP:OPAQUE
SEQUENCE:0
UID:LYNE-762359813
DTSTAMP:20231112T100900Z
DESCRIPTION:Class 9  Morgan Paris Nicole
SUMMARY:[Nicole] 9 English Nicole
X-MICROSOFT-CDO-IMPORTANCE:1
CLASS:PUBLIC
PRIORITY:5
END:VEVENT
BEGIN:VEVENT
ORGANIZER:MAILTO:
DTSTART:20230522T000000Z
DTEND:20230522T004500Z
LOCATION:ROOM 12 ROOM 8 CREEK VIEW
TRANSP:OPAQUE
SEQUENCE:0
UID:LYNE-762425356
DTSTAMP:20231112T100900Z
DESCRIPTION:Class 10   Nicole April
SUMMARY:[Nicole] 10 English (Nicole) T2B2/3
X-MICROSOFT-CDO-IMPORTANCE:1
CLASS:PUBLIC
PRIORITY:5
END:VEVENT
BEGIN:VEVENT
ORGANIZER:MAILTO:
DTSTART:20230529T000000Z
DTEND:20230529T004500Z
LOCATION:ROOM 12 ROOM 8 CREEK VIEW
TRANSP:OPAQUE
SEQUENCE:0
UID:LYNE-762490899
DTSTAMP:20231112T100900Z
DESCRIPTION:Class 10   Nicole April
SUMMARY:[Nicole] 10 English (Nicole) T2B2/3
X-MICROSOFT-CDO-IMPORTANCE:1
CLASS:PUBLIC
PRIORITY:5
END:VEVENT
BEGIN:VEVENT
ORGANIZER:MAILTO:
DTSTART:20230605T000000Z
DTEND:20230605T004500Z
LOCATION:ROOM 12 ROOM 8 CREEK VIEW
TRANSP:OPAQUE
SEQUENCE:0
UID:LYNE-762556442
DTSTAMP:20231112T100900Z
DESCRIPTION:Class 10   Nicole April
SUMMARY:[Nicole] 10 English (Nicole) T2B2/3
X-MICROSOFT-CDO-IMPORTANCE:1
CLASS:PUBLIC
PRIORITY:5
END:VEVENT
BEGIN:VEVENT
ORGANIZER:MAILTO:
DTSTART:20230522T010000Z
DTEND:20230522T014500Z
LOCATION:Orange Demountable ROOM 8 CREEK VIEW ROOM 12
TRANSP:OPAQUE
SEQUENCE:0
UID:LYNE-762621964
DTSTAMP:20231112T100900Z
DESCRIPTION:Class 8  Tom O Nicole Sarah
SUMMARY:[Nicole] 8 English (T_N_S)
X-MICROSOFT-CDO-IMPORTANCE:1
CLASS:PUBLIC
PRIORITY:5
END:VEVENT
BEGIN:VEVENT
ORGANIZER:MAILTO:
DTSTART:20230529T010000Z
DTEND:20230529T014500Z
LOCATION:Orange Demountable ROOM 8 CREEK VIEW ROOM 12
TRANSP:OPAQUE
SEQUENCE:0
UID:LYNE-762687507
DTSTAMP:20231112T100900Z
DESCRIPTION:Class 8  Tom O Nicole Sarah
SUMMARY:[Nicole] 8 English (T_N_S)
X-MICROSOFT-CDO-IMPORTANCE:1
CLASS:PUBLIC
PRIORITY:5
END:VEVENT
BEGIN:VEVENT
ORGANIZER:MAILTO:
DTSTART:20230605T010000Z
DTEND:20230605T014500Z
LOCATION:Orange Demountable ROOM 8 CREEK VIEW ROOM 12
TRANSP:OPAQUE
SEQUENCE:0
UID:LYNE-762753050
DTSTAMP:20231112T100900Z
DESCRIPTION:Class 8  Tom O Nicole Sarah
SUMMARY:[Nicole] 8 English (T_N_S)
X-MICROSOFT-CDO-IMPORTANCE:1
CLASS:PUBLIC
PRIORITY:5
END:VEVENT
BEGIN:VEVENT
ORGANIZER:MAILTO:
DTSTART:20230522T153000Z
DTEND:20230522T161500Z
LOCATION:ROOM 12 ROOM 8 CREEK VIEW Orange Demountable
TRANSP:OPAQUE
SEQUENCE:0
UID:LYNE-762818572
DTSTAMP:20231112T100900Z
DESCRIPTION:Class 9  Morgan Paris Nicole
SUMMARY:[Nicole] 9 English Nicole
X-MICROSOFT-CDO-IMPORTANCE:1
CLASS:PUBLIC
PRIORITY:5
END:VEVENT
BEGIN:VEVENT
ORGANIZER:MAILTO:
DTSTART:20230529T153000Z
DTEND:20230529T161500Z
LOCATION:ROOM 12 ROOM 8 CREEK VIEW Orange Demountable
TRANSP:OPAQUE
SEQUENCE:0
UID:LYNE-762884115
DTSTAMP:20231112T100900Z
DESCRIPTION:Class 9  Morgan Paris Nicole
SUMMARY:[Nicole] 9 English Nicole
X-MICROSOFT-CDO-IMPORTANCE:1
CLASS:PUBLIC
PRIORITY:5
END:VEVENT
BEGIN:VEVENT
ORGANIZER:MAILTO:
DTSTART:20230605T153000Z
DTEND:20230605T161500Z
LOCATION:ROOM 12 ROOM 8 CREEK VIEW Orange Demountable
TRANSP:OPAQUE
SEQUENCE:0
UID:LYNE-762949658
DTSTAMP:20231112T100900Z
DESCRIPTION:Class 9  Morgan Paris Nicole
SUMMARY:[Nicole] 9 English Nicole
X-MICROSOFT-CDO-IMPORTANCE:1
CLASS:PUBLIC
PRIORITY:5
END:VEVENT
BEGIN:VEVENT
ORGANIZER:MAILTO:
DTSTART:20230612T000000Z
DTEND:20230612T004500Z
LOCATION:ROOM 12 ROOM 8 CREEK VIEW
TRANSP:OPAQUE
SEQUENCE:0
UID:LYNE-763015201
DTSTAMP:20231112T100900Z
DESCRIPTION:Class 10   Nicole April
SUMMARY:[Nicole] 10 English (Nicole) T2B2/3
X-MICROSOFT-CDO-IMPORTANCE:1
CLASS:PUBLIC
PRIORITY:5
END:VEVENT
BEGIN:VEVENT
ORGANIZER:MAILTO:
DTSTART:20230619T000000Z
DTEND:20230619T004500Z
LOCATION:ROOM 12 ROOM 8 CREEK VIEW
TRANSP:OPAQUE
SEQUENCE:0
UID:LYNE-763080744
DTSTAMP:20231112T100900Z
DESCRIPTION:Class 10   Nicole April
SUMMARY:[Nicole] 10 English (Nicole) T2B2/3
X-MICROSOFT-CDO-IMPORTANCE:1
CLASS:PUBLIC
PRIORITY:5
END:VEVENT
BEGIN:VEVENT
ORGANIZER:MAILTO:
DTSTART:20230626T000000Z
DTEND:20230626T004500Z
LOCATION:ROOM 12 ROOM 8 CREEK VIEW
TRANSP:OPAQUE
SEQUENCE:0
UID:LYNE-763146287
DTSTAMP:20231112T100900Z
DESCRIPTION:Class 10   Nicole April
SUMMARY:[Nicole] 10 English (Nicole) T2B2/3
X-MICROSOFT-CDO-IMPORTANCE:1
CLASS:PUBLIC
PRIORITY:5
END:VEVENT
BEGIN:VEVENT
ORGANIZER:MAILTO:
DTSTART:20230612T153000Z
DTEND:20230612T161500Z
LOCATION:Orange Demountable ROOM 8 CREEK VIEW ROOM 12
TRANSP:OPAQUE
SEQUENCE:0
UID:LYNE-763211809
DTSTAMP:20231112T100900Z
DESCRIPTION:Class 8  Tom O Nicole Sarah
SUMMARY:[Nicole] 8 English (T_N_S)
X-MICROSOFT-CDO-IMPORTANCE:1
CLASS:PUBLIC
PRIORITY:5
END:VEVENT
BEGIN:VEVENT
ORGANIZER:MAILTO:
DTSTART:20230619T153000Z
DTEND:20230619T161500Z
LOCATION:Orange Demountable ROOM 8 CREEK VIEW ROOM 12
TRANSP:OPAQUE
SEQUENCE:0
UID:LYNE-763277352
DTSTAMP:20231112T100900Z
DESCRIPTION:Class 8  Tom O Nicole Sarah
SUMMARY:[Nicole] 8 English (T_N_S)
X-MICROSOFT-CDO-IMPORTANCE:1
CLASS:PUBLIC
PRIORITY:5
END:VEVENT
BEGIN:VEVENT
ORGANIZER:MAILTO:
DTSTART:20230626T153000Z
DTEND:20230626T161500Z
LOCATION:Orange Demountable ROOM 8 CREEK VIEW ROOM 12
TRANSP:OPAQUE
SEQUENCE:0
UID:LYNE-763342895
DTSTAMP:20231112T100900Z
DESCRIPTION:Class 8  Tom O Nicole Sarah
SUMMARY:[Nicole] 8 English (T_N_S)
X-MICROSOFT-CDO-IMPORTANCE:1
CLASS:PUBLIC
PRIORITY:5
END:VEVENT
BEGIN:VEVENT
ORGANIZER:MAILTO:
DTSTART:20230717T000000Z
DTEND:20230717T004500Z
LOCATION:ROOM 12 ROOM 8 CREEK VIEW Orange Demountable
TRANSP:OPAQUE
SEQUENCE:0
UID:LYNE-763408452
DTSTAMP:20231112T100900Z
DESCRIPTION:Class 9  Morgan Paris Nicole
SUMMARY:[Nicole] 9 English Nicole
X-MICROSOFT-CDO-IMPORTANCE:1
CLASS:PUBLIC
PRIORITY:5
END:VEVENT
BEGIN:VEVENT
ORGANIZER:MAILTO:
DTSTART:20230724T000000Z
DTEND:20230724T004500Z
LOCATION:ROOM 12 ROOM 8 CREEK VIEW Orange Demountable
TRANSP:OPAQUE
SEQUENCE:0
UID:LYNE-763473995
DTSTAMP:20231112T100900Z
DESCRIPTION:Class 9  Morgan Paris Nicole
SUMMARY:[Nicole] 9 English Nicole
X-MICROSOFT-CDO-IMPORTANCE:1
CLASS:PUBLIC
PRIORITY:5
END:VEVENT
BEGIN:VEVENT
ORGANIZER:MAILTO:
DTSTART:20230731T000000Z
DTEND:20230731T004500Z
LOCATION:ROOM 12 ROOM 8 CREEK VIEW Orange Demountable
TRANSP:OPAQUE
SEQUENCE:0
UID:LYNE-763539538
DTSTAMP:20231112T100900Z
DESCRIPTION:Class 9  Morgan Paris Nicole
SUMMARY:[Nicole] 9 English Nicole
X-MICROSOFT-CDO-IMPORTANCE:1
CLASS:PUBLIC
PRIORITY:5
END:VEVENT
BEGIN:VEVENT
ORGANIZER:MAILTO:
DTSTART:20230807T000000Z
DTEND:20230807T004500Z
LOCATION:ROOM 12 ROOM 8 CREEK VIEW Orange Demountable
TRANSP:OPAQUE
SEQUENCE:0
UID:LYNE-763605081
DTSTAMP:20231112T100900Z
DESCRIPTION:Class 9  Morgan Paris Nicole
SUMMARY:[Nicole] 9 English Nicole
X-MICROSOFT-CDO-IMPORTANCE:1
CLASS:PUBLIC
PRIORITY:5
END:VEVENT
BEGIN:VEVENT
ORGANIZER:MAILTO:
DTSTART:20230717T010000Z
DTEND:20230717T014500Z
LOCATION:ROOM 12 ROOM 8 CREEK VIEW
TRANSP:OPAQUE
SEQUENCE:0
UID:LYNE-763670596
DTSTAMP:20231112T100900Z
DESCRIPTION:Class 10   Nicole Paris
SUMMARY:[Nicole] 10 English (Nicole)
X-MICROSOFT-CDO-IMPORTANCE:1
CLASS:PUBLIC
PRIORITY:5
END:VEVENT
BEGIN:VEVENT
ORGANIZER:MAILTO:
DTSTART:20230724T010000Z
DTEND:20230724T014500Z
LOCATION:ROOM 12 ROOM 8 CREEK VIEW
TRANSP:OPAQUE
SEQUENCE:0
UID:LYNE-763736139
DTSTAMP:20231112T100900Z
DESCRIPTION:Class 10   Nicole Paris
SUMMARY:[Nicole] 10 English (Nicole)
X-MICROSOFT-CDO-IMPORTANCE:1
CLASS:PUBLIC
PRIORITY:5
END:VEVENT
BEGIN:VEVENT
ORGANIZER:MAILTO:
DTSTART:20230731T010000Z
DTEND:20230731T014500Z
LOCATION:ROOM 12 ROOM 8 CREEK VIEW
TRANSP:OPAQUE
SEQUENCE:0
UID:LYNE-763801682
DTSTAMP:20231112T100900Z
DESCRIPTION:Class 10   Nicole Paris
SUMMARY:[Nicole] 10 English (Nicole)
X-MICROSOFT-CDO-IMPORTANCE:1
CLASS:PUBLIC
PRIORITY:5
END:VEVENT
BEGIN:VEVENT
ORGANIZER:MAILTO:
DTSTART:20230807T010000Z
DTEND:20230807T014500Z
LOCATION:ROOM 12 ROOM 8 CREEK VIEW
TRANSP:OPAQUE
SEQUENCE:0
UID:LYNE-763867225
DTSTAMP:20231112T100900Z
DESCRIPTION:Class 10   Nicole Paris
SUMMARY:[Nicole] 10 English (Nicole)
X-MICROSOFT-CDO-IMPORTANCE:1
CLASS:PUBLIC
PRIORITY:5
END:VEVENT
BEGIN:VEVENT
ORGANIZER:MAILTO:
DTSTART:20230813T220500Z
DTEND:20230813T225000Z
LOCATION:ROOM 12 ROOM 8 CREEK VIEW IT & DESIGN  ROOM Back Orange Demountable
TRANSP:OPAQUE
SEQUENCE:0
UID:LYNE-763932768
DTSTAMP:20231112T100900Z
DESCRIPTION:Class 11  Morgan Paris Sarah Nicole
SUMMARY:[Nicole] Line 2/11 English Mon
X-MICROSOFT-CDO-IMPORTANCE:1
CLASS:PUBLIC
PRIORITY:5
END:VEVENT
BEGIN:VEVENT
ORGANIZER:MAILTO:
DTSTART:20230820T220500Z
DTEND:20230820T225000Z
LOCATION:ROOM 12 ROOM 8 CREEK VIEW IT & DESIGN  ROOM Back Orange Demountable
TRANSP:OPAQUE
SEQUENCE:0
UID:LYNE-763998311
DTSTAMP:20231112T100900Z
DESCRIPTION:Class 11  Morgan Paris Sarah Nicole
SUMMARY:[Nicole] Line 2/11 English Mon
X-MICROSOFT-CDO-IMPORTANCE:1
CLASS:PUBLIC
PRIORITY:5
END:VEVENT
BEGIN:VEVENT
ORGANIZER:MAILTO:
DTSTART:20230827T220500Z
DTEND:20230827T225000Z
LOCATION:ROOM 12 ROOM 8 CREEK VIEW IT & DESIGN  ROOM Back Orange Demountable
TRANSP:OPAQUE
SEQUENCE:0
UID:LYNE-764063854
DTSTAMP:20231112T100900Z
DESCRIPTION:Class 11  Morgan Paris Sarah Nicole
SUMMARY:[Nicole] Line 2/11 English Mon
X-MICROSOFT-CDO-IMPORTANCE:1
CLASS:PUBLIC
PRIORITY:5
END:VEVENT
BEGIN:VEVENT
ORGANIZER:MAILTO:
DTSTART:20230814T000000Z
DTEND:20230814T004500Z
LOCATION:Orange Demountable ROOM 8 CREEK VIEW ROOM 12
TRANSP:OPAQUE
SEQUENCE:0
UID:LYNE-764129376
DTSTAMP:20231112T100900Z
DESCRIPTION:Class 8  April  Nicole Sarah
SUMMARY:[Nicole] 8 English (N_A_S)
X-MICROSOFT-CDO-IMPORTANCE:1
CLASS:PUBLIC
PRIORITY:5
END:VEVENT
BEGIN:VEVENT
ORGANIZER:MAILTO:
DTSTART:20230821T000000Z
DTEND:20230821T004500Z
LOCATION:Orange Demountable ROOM 8 CREEK VIEW ROOM 12
TRANSP:OPAQUE
SEQUENCE:0
UID:LYNE-764194919
DTSTAMP:20231112T100900Z
DESCRIPTION:Class 8  April  Nicole Sarah
SUMMARY:[Nicole] 8 English (N_A_S)
X-MICROSOFT-CDO-IMPORTANCE:1
CLASS:PUBLIC
PRIORITY:5
END:VEVENT
BEGIN:VEVENT
ORGANIZER:MAILTO:
DTSTART:20230828T000000Z
DTEND:20230828T004500Z
LOCATION:Orange Demountable ROOM 8 CREEK VIEW ROOM 12
TRANSP:OPAQUE
SEQUENCE:0
UID:LYNE-764260462
DTSTAMP:20231112T100900Z
DESCRIPTION:Class 8  April  Nicole Sarah
SUMMARY:[Nicole] 8 English (N_A_S)
X-MICROSOFT-CDO-IMPORTANCE:1
CLASS:PUBLIC
PRIORITY:5
END:VEVENT
BEGIN:VEVENT
ORGANIZER:MAILTO:
DTSTART:20230814T010000Z
DTEND:20230814T014500Z
LOCATION:ROOM 12 ROOM 8 CREEK VIEW
TRANSP:OPAQUE
SEQUENCE:0
UID:LYNE-764325984
DTSTAMP:20231112T100900Z
DESCRIPTION:Class 10   Nicole Paris
SUMMARY:[Nicole] 10 English (Nicole)
X-MICROSOFT-CDO-IMPORTANCE:1
CLASS:PUBLIC
PRIORITY:5
END:VEVENT
BEGIN:VEVENT
ORGANIZER:MAILTO:
DTSTART:20230821T010000Z
DTEND:20230821T014500Z
LOCATION:ROOM 12 ROOM 8 CREEK VIEW
TRANSP:OPAQUE
SEQUENCE:0
UID:LYNE-764391527
DTSTAMP:20231112T100900Z
DESCRIPTION:Class 10   Nicole Paris
SUMMARY:[Nicole] 10 English (Nicole)
X-MICROSOFT-CDO-IMPORTANCE:1
CLASS:PUBLIC
PRIORITY:5
END:VEVENT
BEGIN:VEVENT
ORGANIZER:MAILTO:
DTSTART:20230828T010000Z
DTEND:20230828T014500Z
LOCATION:ROOM 12 ROOM 8 CREEK VIEW
TRANSP:OPAQUE
SEQUENCE:0
UID:LYNE-764457070
DTSTAMP:20231112T100900Z
DESCRIPTION:Class 10   Nicole Paris
SUMMARY:[Nicole] 10 English (Nicole)
X-MICROSOFT-CDO-IMPORTANCE:1
CLASS:PUBLIC
PRIORITY:5
END:VEVENT
BEGIN:VEVENT
ORGANIZER:MAILTO:
DTSTART:20230814T153000Z
DTEND:20230814T161500Z
LOCATION:ROOM 12 ROOM 8 CREEK VIEW Orange Demountable
TRANSP:OPAQUE
SEQUENCE:0
UID:LYNE-764522592
DTSTAMP:20231112T100900Z
DESCRIPTION:Class 9  Morgan Paris Nicole
SUMMARY:[Nicole] 9 English Nicole
X-MICROSOFT-CDO-IMPORTANCE:1
CLASS:PUBLIC
PRIORITY:5
END:VEVENT
BEGIN:VEVENT
ORGANIZER:MAILTO:
DTSTART:20230821T153000Z
DTEND:20230821T161500Z
LOCATION:ROOM 12 ROOM 8 CREEK VIEW Orange Demountable
TRANSP:OPAQUE
SEQUENCE:0
UID:LYNE-764588135
DTSTAMP:20231112T100900Z
DESCRIPTION:Class 9  Morgan Paris Nicole
SUMMARY:[Nicole] 9 English Nicole
X-MICROSOFT-CDO-IMPORTANCE:1
CLASS:PUBLIC
PRIORITY:5
END:VEVENT
BEGIN:VEVENT
ORGANIZER:MAILTO:
DTSTART:20230828T153000Z
DTEND:20230828T161500Z
LOCATION:ROOM 12 ROOM 8 CREEK VIEW Orange Demountable
TRANSP:OPAQUE
SEQUENCE:0
UID:LYNE-764653678
DTSTAMP:20231112T100900Z
DESCRIPTION:Class 9  Morgan Paris Nicole
SUMMARY:[Nicole] 9 English Nicole
X-MICROSOFT-CDO-IMPORTANCE:1
CLASS:PUBLIC
PRIORITY:5
END:VEVENT
BEGIN:VEVENT
ORGANIZER:MAILTO:
DTSTART:20230903T220500Z
DTEND:20230903T225000Z
LOCATION:ROOM 12 ROOM 8 CREEK VIEW Orange Demountable
TRANSP:OPAQUE
SEQUENCE:0
UID:LYNE-764719221
DTSTAMP:20231112T100900Z
DESCRIPTION:Class 9  Morgan Paris Nicole
SUMMARY:[Nicole] 9 English Nicole
X-MICROSOFT-CDO-IMPORTANCE:1
CLASS:PUBLIC
PRIORITY:5
END:VEVENT
BEGIN:VEVENT
ORGANIZER:MAILTO:
DTSTART:20230910T220500Z
DTEND:20230910T225000Z
LOCATION:ROOM 12 ROOM 8 CREEK VIEW Orange Demountable
TRANSP:OPAQUE
SEQUENCE:0
UID:LYNE-764784764
DTSTAMP:20231112T100900Z
DESCRIPTION:Class 9  Morgan Paris Nicole
SUMMARY:[Nicole] 9 English Nicole
X-MICROSOFT-CDO-IMPORTANCE:1
CLASS:PUBLIC
PRIORITY:5
END:VEVENT
BEGIN:VEVENT
ORGANIZER:MAILTO:
DTSTART:20230917T220500Z
DTEND:20230917T225000Z
LOCATION:ROOM 12 ROOM 8 CREEK VIEW Orange Demountable
TRANSP:OPAQUE
SEQUENCE:0
UID:LYNE-764850307
DTSTAMP:20231112T100900Z
DESCRIPTION:Class 9  Morgan Paris Nicole
SUMMARY:[Nicole] 9 English Nicole
X-MICROSOFT-CDO-IMPORTANCE:1
CLASS:PUBLIC
PRIORITY:5
END:VEVENT
BEGIN:VEVENT
ORGANIZER:MAILTO:
DTSTART:20230904T010000Z
DTEND:20230904T014500Z
LOCATION:ROOM 12 ROOM 8 CREEK VIEW IT & DESIGN  ROOM Back Orange Demountable
TRANSP:OPAQUE
SEQUENCE:0
UID:LYNE-764915829
DTSTAMP:20231112T100900Z
DESCRIPTION:Class 11  Morgan Paris Sarah Nicole
SUMMARY:[Nicole] Line 2/11 English Mon
X-MICROSOFT-CDO-IMPORTANCE:1
CLASS:PUBLIC
PRIORITY:5
END:VEVENT
BEGIN:VEVENT
ORGANIZER:MAILTO:
DTSTART:20230911T010000Z
DTEND:20230911T014500Z
LOCATION:ROOM 12 ROOM 8 CREEK VIEW IT & DESIGN  ROOM Back Orange Demountable
TRANSP:OPAQUE
SEQUENCE:0
UID:LYNE-764981372
DTSTAMP:20231112T100900Z
DESCRIPTION:Class 11  Morgan Paris Sarah Nicole
SUMMARY:[Nicole] Line 2/11 English Mon
X-MICROSOFT-CDO-IMPORTANCE:1
CLASS:PUBLIC
PRIORITY:5
END:VEVENT
BEGIN:VEVENT
ORGANIZER:MAILTO:
DTSTART:20230918T010000Z
DTEND:20230918T014500Z
LOCATION:ROOM 12 ROOM 8 CREEK VIEW IT & DESIGN  ROOM Back Orange Demountable
TRANSP:OPAQUE
SEQUENCE:0
UID:LYNE-765046915
DTSTAMP:20231112T100900Z
DESCRIPTION:Class 11  Morgan Paris Sarah Nicole
SUMMARY:[Nicole] Line 2/11 English Mon
X-MICROSOFT-CDO-IMPORTANCE:1
CLASS:PUBLIC
PRIORITY:5
END:VEVENT
BEGIN:VEVENT
ORGANIZER:MAILTO:
DTSTART:20231105T220500Z
DTEND:20231105T225000Z
LOCATION:ROOM 12 ROOM 8 CREEK VIEW IT & DESIGN  ROOM Back Orange Demountable
TRANSP:OPAQUE
SEQUENCE:0
UID:LYNE-765112500
DTSTAMP:20231112T100900Z
DESCRIPTION:Class 11  Morgan Paris Sarah Nicole
SUMMARY:[Nicole] Line 2/11 English Mon
X-MICROSOFT-CDO-IMPORTANCE:1
CLASS:PUBLIC
PRIORITY:5
END:VEVENT
BEGIN:VEVENT
ORGANIZER:MAILTO:
DTSTART:20231112T220500Z
DTEND:20231112T225000Z
LOCATION:ROOM 12 ROOM 8 CREEK VIEW IT & DESIGN  ROOM Back Orange Demountable
TRANSP:OPAQUE
SEQUENCE:0
UID:LYNE-765178043
DTSTAMP:20231112T100900Z
DESCRIPTION:Class 11  Morgan Paris Sarah Nicole
SUMMARY:[Nicole] Line 2/11 English Mon
X-MICROSOFT-CDO-IMPORTANCE:1
CLASS:PUBLIC
PRIORITY:5
END:VEVENT
BEGIN:VEVENT
ORGANIZER:MAILTO:
DTSTART:20231119T220500Z
DTEND:20231119T225000Z
LOCATION:ROOM 12 ROOM 8 CREEK VIEW IT & DESIGN  ROOM Back Orange Demountable
TRANSP:OPAQUE
SEQUENCE:0
UID:LYNE-765243586
DTSTAMP:20231112T100900Z
DESCRIPTION:Class 11  Morgan Paris Sarah Nicole
SUMMARY:[Nicole] Line 2/11 English Mon
X-MICROSOFT-CDO-IMPORTANCE:1
CLASS:PUBLIC
PRIORITY:5
END:VEVENT
BEGIN:VEVENT
ORGANIZER:MAILTO:
DTSTART:20231106T000000Z
DTEND:20231106T004500Z
LOCATION:Orange Demountable ROOM 8 CREEK VIEW ROOM 12
TRANSP:OPAQUE
SEQUENCE:0
UID:LYNE-765309108
DTSTAMP:20231112T100900Z
DESCRIPTION:Class 8  Isobel Nicole Sarah
SUMMARY:[Nicole] 8 English (I_N_S)
X-MICROSOFT-CDO-IMPORTANCE:1
CLASS:PUBLIC
PRIORITY:5
END:VEVENT
BEGIN:VEVENT
ORGANIZER:MAILTO:
DTSTART:20231113T000000Z
DTEND:20231113T004500Z
LOCATION:Orange Demountable ROOM 8 CREEK VIEW ROOM 12
TRANSP:OPAQUE
SEQUENCE:0
UID:LYNE-765374651
DTSTAMP:20231112T100900Z
DESCRIPTION:Class 8  Isobel Nicole Sarah
SUMMARY:[Nicole] 8 English (I_N_S)
X-MICROSOFT-CDO-IMPORTANCE:1
CLASS:PUBLIC
PRIORITY:5
END:VEVENT
BEGIN:VEVENT
ORGANIZER:MAILTO:
DTSTART:20231120T000000Z
DTEND:20231120T004500Z
LOCATION:Orange Demountable ROOM 8 CREEK VIEW ROOM 12
TRANSP:OPAQUE
SEQUENCE:0
UID:LYNE-765440194
DTSTAMP:20231112T100900Z
DESCRIPTION:Class 8  Isobel Nicole Sarah
SUMMARY:[Nicole] 8 English (I_N_S)
X-MICROSOFT-CDO-IMPORTANCE:1
CLASS:PUBLIC
PRIORITY:5
END:VEVENT
BEGIN:VEVENT
ORGANIZER:MAILTO:
DTSTART:20231106T010000Z
DTEND:20231106T014500Z
LOCATION:ROOM 12 ROOM 8 CREEK VIEW
TRANSP:OPAQUE
SEQUENCE:0
UID:LYNE-765505716
DTSTAMP:20231112T100900Z
DESCRIPTION:Class 10   Nicole Paris
SUMMARY:[Nicole] 10 English (Nicole)
X-MICROSOFT-CDO-IMPORTANCE:1
CLASS:PUBLIC
PRIORITY:5
END:VEVENT
BEGIN:VEVENT
ORGANIZER:MAILTO:
DTSTART:20231113T010000Z
DTEND:20231113T014500Z
LOCATION:ROOM 12 ROOM 8 CREEK VIEW
TRANSP:OPAQUE
SEQUENCE:0
UID:LYNE-765571259
DTSTAMP:20231112T100900Z
DESCRIPTION:Class 10   Nicole Paris
SUMMARY:[Nicole] 10 English (Nicole)
X-MICROSOFT-CDO-IMPORTANCE:1
CLASS:PUBLIC
PRIORITY:5
END:VEVENT
BEGIN:VEVENT
ORGANIZER:MAILTO:
DTSTART:20231120T010000Z
DTEND:20231120T014500Z
LOCATION:ROOM 12 ROOM 8 CREEK VIEW
TRANSP:OPAQUE
SEQUENCE:0
UID:LYNE-765636802
DTSTAMP:20231112T100900Z
DESCRIPTION:Class 10   Nicole Paris
SUMMARY:[Nicole] 10 English (Nicole)
X-MICROSOFT-CDO-IMPORTANCE:1
CLASS:PUBLIC
PRIORITY:5
END:VEVENT
BEGIN:VEVENT
ORGANIZER:MAILTO:
DTSTART:20231126T220500Z
DTEND:20231126T225000Z
LOCATION:ROOM 12 ROOM 8 CREEK VIEW IT & DESIGN  ROOM Back Orange Demountable
TRANSP:OPAQUE
SEQUENCE:0
UID:LYNE-765702345
DTSTAMP:20231112T100900Z
DESCRIPTION:Class 11  Morgan Paris Sarah Nicole
SUMMARY:[Nicole] Line 2/11 English Mon
X-MICROSOFT-CDO-IMPORTANCE:1
CLASS:PUBLIC
PRIORITY:5
END:VEVENT
BEGIN:VEVENT
ORGANIZER:MAILTO:
DTSTART:20231203T220500Z
DTEND:20231203T225000Z
LOCATION:ROOM 12 ROOM 8 CREEK VIEW IT & DESIGN  ROOM Back Orange Demountable
TRANSP:OPAQUE
SEQUENCE:0
UID:LYNE-765767888
DTSTAMP:20231112T100900Z
DESCRIPTION:Class 11  Morgan Paris Sarah Nicole
SUMMARY:[Nicole] Line 2/11 English Mon
X-MICROSOFT-CDO-IMPORTANCE:1
CLASS:PUBLIC
PRIORITY:5
END:VEVENT
BEGIN:VEVENT
ORGANIZER:MAILTO:
DTSTART:20231210T220500Z
DTEND:20231210T225000Z
LOCATION:ROOM 12 ROOM 8 CREEK VIEW IT & DESIGN  ROOM Back Orange Demountable
TRANSP:OPAQUE
SEQUENCE:0
UID:LYNE-765833431
DTSTAMP:20231112T100900Z
DESCRIPTION:Class 11  Morgan Paris Sarah Nicole
SUMMARY:[Nicole] Line 2/11 English Mon
X-MICROSOFT-CDO-IMPORTANCE:1
CLASS:PUBLIC
PRIORITY:5
END:VEVENT
BEGIN:VEVENT
ORGANIZER:MAILTO:
DTSTART:20231127T010000Z
DTEND:20231127T014500Z
LOCATION:Orange Demountable ROOM 8 CREEK VIEW ROOM 12
TRANSP:OPAQUE
SEQUENCE:0
UID:LYNE-765898953
DTSTAMP:20231112T100900Z
DESCRIPTION:Class 8  Isobel Nicole Sarah
SUMMARY:[Nicole] 8 English (I_N_S)
X-MICROSOFT-CDO-IMPORTANCE:1
CLASS:PUBLIC
PRIORITY:5
END:VEVENT
BEGIN:VEVENT
ORGANIZER:MAILTO:
DTSTART:20231204T010000Z
DTEND:20231204T014500Z
LOCATION:Orange Demountable ROOM 8 CREEK VIEW ROOM 12
TRANSP:OPAQUE
SEQUENCE:0
UID:LYNE-765964496
DTSTAMP:20231112T100900Z
DESCRIPTION:Class 8  Isobel Nicole Sarah
SUMMARY:[Nicole] 8 English (I_N_S)
X-MICROSOFT-CDO-IMPORTANCE:1
CLASS:PUBLIC
PRIORITY:5
END:VEVENT
BEGIN:VEVENT
ORGANIZER:MAILTO:
DTSTART:20231211T010000Z
DTEND:20231211T014500Z
LOCATION:Orange Demountable ROOM 8 CREEK VIEW ROOM 12
TRANSP:OPAQUE
SEQUENCE:0
UID:LYNE-766030039
DTSTAMP:20231112T100900Z
DESCRIPTION:Class 8  Isobel Nicole Sarah
SUMMARY:[Nicole] 8 English (I_N_S)
X-MICROSOFT-CDO-IMPORTANCE:1
CLASS:PUBLIC
PRIORITY:5
END:VEVENT
BEGIN:VEVENT
ORGANIZER:MAILTO:
DTSTART:20231127T153000Z
DTEND:20231127T161500Z
LOCATION:ROOM 12 ROOM 8 CREEK VIEW
TRANSP:OPAQUE
SEQUENCE:0
UID:LYNE-766095561
DTSTAMP:20231112T100900Z
DESCRIPTION:Class 10   Nicole Paris
SUMMARY:[Nicole] 10 English (Nicole)
X-MICROSOFT-CDO-IMPORTANCE:1
CLASS:PUBLIC
PRIORITY:5
END:VEVENT
BEGIN:VEVENT
ORGANIZER:MAILTO:
DTSTART:20231204T153000Z
DTEND:20231204T161500Z
LOCATION:ROOM 12 ROOM 8 CREEK VIEW
TRANSP:OPAQUE
SEQUENCE:0
UID:LYNE-766161104
DTSTAMP:20231112T100900Z
DESCRIPTION:Class 10   Nicole Paris
SUMMARY:[Nicole] 10 English (Nicole)
X-MICROSOFT-CDO-IMPORTANCE:1
CLASS:PUBLIC
PRIORITY:5
END:VEVENT
BEGIN:VEVENT
ORGANIZER:MAILTO:
DTSTART:20231211T153000Z
DTEND:20231211T161500Z
LOCATION:ROOM 12 ROOM 8 CREEK VIEW
TRANSP:OPAQUE
SEQUENCE:0
UID:LYNE-766226647
DTSTAMP:20231112T100900Z
DESCRIPTION:Class 10   Nicole Paris
SUMMARY:[Nicole] 10 English (Nicole)
X-MICROSOFT-CDO-IMPORTANCE:1
CLASS:PUBLIC
PRIORITY:5
END:VEVENT
END:VCALENDAR
